BEGIN:VCALENDAR
VERSION:2.0
PRODID:-//Duncanville Texas Knights of Columbus Council 8157 - ECPv6.11.1//NONSGML v1.0//EN
CALSCALE:GREGORIAN
METHOD:PUBLISH
X-ORIGINAL-URL:https://8157.mytreatmentmanager.com
X-WR-CALDESC:Events for Duncanville Texas Knights of Columbus Council 8157
REFRESH-INTERVAL;VALUE=DURATION:PT1H
X-Robots-Tag:noindex
X-PUBLISHED-TTL:PT1H
BEGIN:VTIMEZONE
TZID:America/Chicago
BEGIN:DAYLIGHT
TZOFFSETFROM:-0600
TZOFFSETTO:-0500
TZNAME:CDT
DTSTART:20230312T080000
END:DAYLIGHT
BEGIN:STANDARD
TZOFFSETFROM:-0500
TZOFFSETTO:-0600
TZNAME:CST
DTSTART:20231105T070000
END:STANDARD
BEGIN:DAYLIGHT
TZOFFSETFROM:-0600
TZOFFSETTO:-0500
TZNAME:CDT
DTSTART:20240310T080000
END:DAYLIGHT
BEGIN:STANDARD
TZOFFSETFROM:-0500
TZOFFSETTO:-0600
TZNAME:CST
DTSTART:20241103T070000
END:STANDARD
END:VTIMEZONE
BEGIN:VEVENT
DTSTART;TZID=America/Chicago:20240216T130000
DTEND;TZID=America/Chicago:20240216T200000
DTSTAMP:20260423T084946
CREATED:20240120T191455Z
LAST-MODIFIED:20240208T174651Z
UID:29858-1708088400-1708113600@8157.mytreatmentmanager.com
SUMMARY:Lenten Fish Fry
DESCRIPTION:Will you come join your fellow Brother Knights at the annual Lenten fish fry?  Come at 1pm to help set up tables and chairs\, come at 3:30 to commence cooking fish and all the other food to be served; come at 4:30 to help with the serving; come at 7pm to help with the clean up.  The menu this year is Catfish\, French Fries\, Hush Puppies\, Baked Beans\, Salad/Coleslaw\, Lemonade\, and Tea – all for $8.00
URL:https://8157.mytreatmentmanager.com/event/church-activities/
LOCATION:Holy Spirit Catholic Church\, 1111 W Danieldale Rd\, Duncanville\, TX\, 75137\, United States
CATEGORIES:Church Activities
ORGANIZER;CN="James Smith":MAILTO:jcjasmith@hotmail.com
END:VEVENT
BEGIN:VEVENT
DTSTART;TZID=America/Chicago:20240214T000000
DTEND;TZID=America/Chicago:20240214T235959
DTSTAMP:20260423T084946
CREATED:20231116T150517Z
LAST-MODIFIED:20231116T150519Z
UID:29642-1707868800-1707955199@8157.mytreatmentmanager.com
SUMMARY:Valentine's Day
DESCRIPTION:
URL:https://8157.mytreatmentmanager.com/event/valentines-day-2024/
LOCATION:TX
CATEGORIES:US Holidays & Observances
END:VEVENT
BEGIN:VEVENT
DTSTART;TZID=America/Chicago:20240214T000000
DTEND;TZID=America/Chicago:20240214T235900
DTSTAMP:20260423T084946
CREATED:20231116T152354Z
LAST-MODIFIED:20231116T152356Z
UID:29656-1707868800-1707955140@8157.mytreatmentmanager.com
SUMMARY:Ash Wednesday
DESCRIPTION:Start of Lent season.
URL:https://8157.mytreatmentmanager.com/event/ash-wednesday-2024/
LOCATION:TX
CATEGORIES:Holy Days
END:VEVENT
BEGIN:VEVENT
DTSTART;TZID=America/Chicago:20240213T183000
DTEND;TZID=America/Chicago:20240213T200000
DTSTAMP:20260423T084946
CREATED:20240122T013413Z
LAST-MODIFIED:20240124T150531Z
UID:30124-1707849000-1707854400@8157.mytreatmentmanager.com
SUMMARY:Degree Ceremony
DESCRIPTION:Charily\, Unity\, and Fraternity exemplification.  Candidates arrive at 6:30pm – ceremony starts at 7pm
URL:https://8157.mytreatmentmanager.com/event/degree-events/
LOCATION:Holy Spirit Catholic Church\, 1111 W Danieldale Rd\, Duncanville\, TX\, 75137\, United States
CATEGORIES:Degree events
ORGANIZER;CN="Tom Greco":MAILTO:cmry@sbcglobal.net
END:VEVENT
BEGIN:VEVENT
DTSTART;TZID=America/Chicago:20240212T000000
DTEND;TZID=America/Chicago:20240212T235959
DTSTAMP:20260423T084946
CREATED:20240121T001059Z
LAST-MODIFIED:20240123T195944Z
UID:29963-1707696000-1707782399@8157.mytreatmentmanager.com
SUMMARY:Lincoln's Birthday
DESCRIPTION:The birthday of the 16th President of the United States
URL:https://8157.mytreatmentmanager.com/event/lincolns-birthday/
LOCATION:TX
CATEGORIES:US Holidays & Observances
END:VEVENT
BEGIN:VEVENT
DTSTART;TZID=America/Chicago:20240209T180000
DTEND;TZID=America/Chicago:20240209T213000
DTSTAMP:20260423T084946
CREATED:20240123T002243Z
LAST-MODIFIED:20240123T195416Z
UID:30232-1707501600-1707514200@8157.mytreatmentmanager.com
SUMMARY:Dallas Diocese Clergy Appreciation Banquet – Friday\, February 9th\, 2024
DESCRIPTION:The net proceeds of the 2024 Clergy Appreciation Banquet will be used to fund the Dallas Diocese Seminarian Emergency Fund and other charitable causes intended to benefit our Dallas Diocese Clergy. \n\n\n\nGuests of Honor\n\n\n\nMost Reverend Edward J. Burns\,     Bishop of Dallas. \n\n\n\nMost Reverend Greg Kelly\,     Auxiliary Bishop of Dallas. \n\n\n\nDallas Diocese Clergy \n\n\n\nTexas State Deputy Terry Fruge \n\n\n\nGuest Speaker\n\n\n\nDave Palmer \n\n\n\nNorth Texas Executive DirectorGuadalupe Radio Network Dallas \n\n\n\nVenue\n\n\n\nKayCee Club – Council 79910110 Shoreview RdDallas\, TX 75238 \n\n\n\n\n6:00 PM Social Hour\n\n\n\n7:00 PM Seated Dinner\n\n\n\n7:45 PM Program starts\n\n\n\n\nMusical Performance by\n\n\n\nThe Chris McGuire Quartet
URL:https://8157.mytreatmentmanager.com/event/dallas-diocese-clergy-appreciation-banquet-friday-february-9th-2024/
LOCATION:he net proceeds of the 2024 Clergy Appreciation Banquet will be used to fund the Dallas Diocese Seminarian Emergency Fund and other charitable causes intended to benefit our Dallas Diocese Clergy.  Guests of Honor Most Reverend Edward J. Burns\,      Bishop of Dallas.  Most Reverend Greg Kelly\,      Auxiliary Bishop of Dallas.  Dallas Diocese Clergy  Texas State Deputy Terry Fruge  Guest Speaker Dave Palmer  North Texas Executive Director Guadalupe Radio Network Dallas  Venue KayCee Club – Council 799 10110 Shoreview Rd Dallas\, TX 75238  6:00 PM Social Hour 7:00 PM Seated Dinner 7:45 PM Program starts Musical Performance by The Chris McGuire Quartet
CATEGORIES:Council Activities
ORGANIZER;CN="SK Jorge Ruiz%2C PGK":MAILTO:admin@kofc8157.org
END:VEVENT
BEGIN:VEVENT
DTSTART;TZID=America/Chicago:20240208T193000
DTEND;TZID=America/Chicago:20240208T203000
DTSTAMP:20260423T084946
CREATED:20240120T200614Z
LAST-MODIFIED:20240123T194055Z
UID:29870-1707420600-1707424200@8157.mytreatmentmanager.com
SUMMARY:4th Degree meeting
DESCRIPTION:The fourth degree of the Mgr. James F Burnes Assembly 2799 meet at Holy Spirit Catholic Church Community Center in Room 221 to discuss and plan events.
URL:https://8157.mytreatmentmanager.com/event/4th-degree-meeting/
LOCATION:TX
CATEGORIES:4th Degree,Meetings
END:VEVENT
BEGIN:VEVENT
DTSTART;TZID=America/Chicago:20240206T190000
DTEND;TZID=America/Chicago:20240206T203000
DTSTAMP:20260423T084946
CREATED:20240120T192313Z
LAST-MODIFIED:20240121T174456Z
UID:29862-1707246000-1707251400@8157.mytreatmentmanager.com
SUMMARY:Business Meeting
DESCRIPTION:Find out’s happened and what’s gonna happen at the regular business meeting.  A light meal is served at 7pm with the meeting starting at 7:30pm.  All current paid up Knights are asked to attend
URL:https://8157.mytreatmentmanager.com/event/business-meeting/
LOCATION:TX
CATEGORIES:Meetings
END:VEVENT
BEGIN:VEVENT
DTSTART;TZID=America/Chicago:20240204T060000
DTEND;TZID=America/Chicago:20240204T120000
DTSTAMP:20260423T084946
CREATED:20240131T203524Z
LAST-MODIFIED:20240131T204009Z
UID:30432-1707026400-1707048000@8157.mytreatmentmanager.com
SUMMARY:Parish Breakfast
DESCRIPTION:Sunday\, Feb. 4 the Knights of Columbus Council 8167 is providing breakfast in the “Upper Room” dining hall for the parish from 6am (cooking and set up); 8am until 11am serving and then clean up.
URL:https://8157.mytreatmentmanager.com/event/church-activities-2/
LOCATION:Holy Spirit Catholic Church\, 1111 W Danieldale Rd\, Duncanville\, TX\, 75137\, United States
CATEGORIES:Church Activities,Council Activities
ATTACH;FMTTYPE=image/jpeg:https://8157.mytreatmentmanager.com/wp-content/uploads/2020/02/IMG_3511.jpg
ORGANIZER;CN="David Ybarra":MAILTO:dvralphy@att.net
END:VEVENT
BEGIN:VEVENT
DTSTART;TZID=America/Chicago:20240127T140000
DTEND;TZID=America/Chicago:20240127T150000
DTSTAMP:20260423T084946
CREATED:20240120T183310Z
LAST-MODIFIED:20240127T171442Z
UID:29846-1706364000-1706367600@8157.mytreatmentmanager.com
SUMMARY:Setting up Chairs
DESCRIPTION:Join your Brother Knights at the Community Center and join in helping set up chairs for Casino night.  Call Dan Murphy at 972822-05+61
URL:https://8157.mytreatmentmanager.com/event/setting-up-chairs-2/
LOCATION:TX
CATEGORIES:Church Activities
END:VEVENT
BEGIN:VEVENT
DTSTART;TZID=America/Chicago:20240126T130000
DTEND;TZID=America/Chicago:20240126T140000
DTSTAMP:20260423T084946
CREATED:20240120T182057Z
LAST-MODIFIED:20240121T174528Z
UID:29841-1706274000-1706277600@8157.mytreatmentmanager.com
SUMMARY:Setting up Chairs
DESCRIPTION:Meet at the Community Center to set up chairs for Casino Night.  Dan Murphy in charge – contact him at 972-822-05612
URL:https://8157.mytreatmentmanager.com/event/setting-up-chairs/
LOCATION:TX
CATEGORIES:Church Activities
END:VEVENT
BEGIN:VEVENT
DTSTART;TZID=America/Chicago:20231107T190000
DTEND;TZID=America/Chicago:20231107T203000
DTSTAMP:20260423T084946
CREATED:20230118T213606Z
LAST-MODIFIED:20230118T213608Z
UID:28866-1699383600-1699389000@8157.mytreatmentmanager.com
SUMMARY:Council Meeting
DESCRIPTION:Council General Membership Meeting
URL:https://8157.mytreatmentmanager.com/event/council-meeting-2023-11/
LOCATION:Holy Spirit Catholic Church\, 1111 W Danieldale Rd\, Duncanville\, TX\, 75137\, United States
CATEGORIES:Council Activities,Meetings
ORGANIZER;CN="Jim Russell":MAILTO:jamarus2@swbell.net
END:VEVENT
BEGIN:VEVENT
DTSTART;TZID=America/Chicago:20231101T000000
DTEND;TZID=America/Chicago:20231101T235900
DTSTAMP:20260423T084946
CREATED:20230118T212302Z
LAST-MODIFIED:20230118T212304Z
UID:28844-1698796800-1698883140@8157.mytreatmentmanager.com
SUMMARY:All Saints Day
DESCRIPTION:
URL:https://8157.mytreatmentmanager.com/event/all-saints-day-2023/
LOCATION:TX
CATEGORIES:Holy Days
END:VEVENT
BEGIN:VEVENT
DTSTART;TZID=America/Chicago:20231031T000000
DTEND;TZID=America/Chicago:20231031T235900
DTSTAMP:20260423T084946
CREATED:20230118T201138Z
LAST-MODIFIED:20230118T201140Z
UID:28802-1698710400-1698796740@8157.mytreatmentmanager.com
SUMMARY:Halloween
DESCRIPTION:
URL:https://8157.mytreatmentmanager.com/event/halloween-2023/
LOCATION:TX
CATEGORIES:US Holidays & Observances
END:VEVENT
BEGIN:VEVENT
DTSTART;TZID=America/Chicago:20231030T180000
DTEND;TZID=America/Chicago:20231030T203000
DTSTAMP:20260423T084946
CREATED:20230910T153915Z
LAST-MODIFIED:20230910T173854Z
UID:29461-1698688800-1698697800@8157.mytreatmentmanager.com
SUMMARY:Dallas Diocese Chapter Meeting
DESCRIPTION:The Dallas Diocese Chapter holds its quarterly meeting.\n\n\n\nCouncil 13520 at All Saints Catholic Church in Richardson will be hosting this evening’s meeting\, all officers/members are invited to attend. A light meal will be served starting at 6:15 pm. The meeting starts promptly at 7 pm.
URL:https://8157.mytreatmentmanager.com/event/dallas-diocese-chapter-meeting/
LOCATION:All Saints Catholic Church\, 5231 Meadowcreek Dr\, Dallas\, Texas\, 75248\, United States
CATEGORIES:Council Activities,Meetings
ORGANIZER;CN="Jake Fleischer":MAILTO:johnfleischer7@gmail.com
END:VEVENT
BEGIN:VEVENT
DTSTART;TZID=America/Chicago:20231017T190000
DTEND;TZID=America/Chicago:20231017T200000
DTSTAMP:20260423T084946
CREATED:20230118T215746Z
LAST-MODIFIED:20230118T215748Z
UID:28889-1697569200-1697572800@8157.mytreatmentmanager.com
SUMMARY:Officers\, Directors & Committees Meeting
DESCRIPTION:We meet in the Community Center Building in Room #221.
URL:https://8157.mytreatmentmanager.com/event/officers-directors-meeting-2023-10/
LOCATION:Holy Spirit Catholic Church\, 1111 W Danieldale Rd\, Duncanville\, TX\, 75137\, United States
CATEGORIES:Council Activities,Meetings
ORGANIZER;CN="Jim Russell":MAILTO:jamarus2@swbell.net
END:VEVENT
BEGIN:VEVENT
DTSTART;TZID=America/Chicago:20231009T000000
DTEND;TZID=America/Chicago:20231009T235900
DTSTAMP:20260423T084946
CREATED:20230118T201010Z
LAST-MODIFIED:20230118T201012Z
UID:28800-1696809600-1696895940@8157.mytreatmentmanager.com
SUMMARY:Columbus Day
DESCRIPTION:
URL:https://8157.mytreatmentmanager.com/event/columbus-day-2023/
LOCATION:TX
CATEGORIES:US Holidays & Observances
END:VEVENT
BEGIN:VEVENT
DTSTART;TZID=America/Chicago:20231003T190000
DTEND;TZID=America/Chicago:20231003T203000
DTSTAMP:20260423T084946
CREATED:20230118T213534Z
LAST-MODIFIED:20230118T213536Z
UID:28864-1696359600-1696365000@8157.mytreatmentmanager.com
SUMMARY:Council Meeting
DESCRIPTION:Council General Membership Meeting
URL:https://8157.mytreatmentmanager.com/event/council-meeting-2023-10/
LOCATION:Holy Spirit Catholic Church\, 1111 W Danieldale Rd\, Duncanville\, TX\, 75137\, United States
CATEGORIES:Council Activities,Meetings
ORGANIZER;CN="Jim Russell":MAILTO:jamarus2@swbell.net
END:VEVENT
BEGIN:VEVENT
DTSTART;TZID=America/Chicago:20230923T000000
DTEND;TZID=America/Chicago:20230923T235959
DTSTAMP:20260423T084946
CREATED:20230910T153107Z
LAST-MODIFIED:20230910T153110Z
UID:29459-1695427200-1695513599@8157.mytreatmentmanager.com
SUMMARY:Fall Festival 2023
DESCRIPTION:Fall Festival 2023 – We Are One
URL:https://8157.mytreatmentmanager.com/event/fall-festival-2023/
LOCATION:Holy Spirit Catholic Church\, 1111 W Danieldale Rd\, Duncanville\, TX\, 75137\, United States
CATEGORIES:Church Activities,Community Activities,Council Activities
END:VEVENT
BEGIN:VEVENT
DTSTART;TZID=America/Chicago:20230920T103000
DTEND;TZID=America/Chicago:20230920T123000
DTSTAMP:20260423T084946
CREATED:20230913T152203Z
LAST-MODIFIED:20230913T153140Z
UID:29498-1695205800-1695213000@8157.mytreatmentmanager.com
SUMMARY:Leo Mattingly Funeral Service
DESCRIPTION:Visitation \n\n\n\nWednesday\, September 20\, 2023 \n\n\n\n10:30AM – 11:00AMHoly Spirit Catholic Church \n\n\n\nService \n\n\n\nWednesday\, September 20\, 2023 \n\n\n\n11:00AMHoly Spirit Catholic Church \n\n\n\nFinal Resting Place \n\n\n\nDallas Fort Worth National Cemetery2000 Mountain Creek ParkwayDallas\, TX 75211
URL:https://8157.mytreatmentmanager.com/event/leo-mattingly-funeral-service/
LOCATION:Holy Spirit Catholic Church\, 1111 W Danieldale Rd\, Duncanville\, TX\, 75137\, United States
CATEGORIES:In Memoriam
ATTACH;FMTTYPE=image/jpeg:https://8157.mytreatmentmanager.com/wp-content/uploads/2023/09/IMG_2134-scaled.jpg
ORGANIZER;CN="SK Jorge Ruiz%2C PGK":MAILTO:admin@kofc8157.org
END:VEVENT
BEGIN:VEVENT
DTSTART;TZID=America/Chicago:20230919T190000
DTEND;TZID=America/Chicago:20230919T200000
DTSTAMP:20260423T084946
CREATED:20230118T215704Z
LAST-MODIFIED:20230118T215706Z
UID:28887-1695150000-1695153600@8157.mytreatmentmanager.com
SUMMARY:Officers\, Directors & Committees Meeting
DESCRIPTION:We meet in the Community Center Building in Room #221.
URL:https://8157.mytreatmentmanager.com/event/officers-directors-meeting-2023-09/
LOCATION:Holy Spirit Catholic Church\, 1111 W Danieldale Rd\, Duncanville\, TX\, 75137\, United States
CATEGORIES:Council Activities,Meetings
ORGANIZER;CN="Jim Russell":MAILTO:jamarus2@swbell.net
END:VEVENT
BEGIN:VEVENT
DTSTART;TZID=America/Chicago:20230916T000000
DTEND;TZID=America/Chicago:20230916T235959
DTSTAMP:20260423T084946
CREATED:20230913T142911Z
LAST-MODIFIED:20230913T142914Z
UID:29493-1694822400-1694908799@8157.mytreatmentmanager.com
SUMMARY:Baseball Tournament - Concessions
DESCRIPTION:4 hour shifts available
URL:https://8157.mytreatmentmanager.com/event/baseball-tournament-concessions/
LOCATION:Valley Ridge Park Cedar Hill Texas\, 2850 Park Ridge Dr\, Cedar Hill\, TX\, 75104\, United States
CATEGORIES:Concessions,Council Activities
ATTACH;FMTTYPE=image/jpeg:https://8157.mytreatmentmanager.com/wp-content/uploads/2017/06/baseball16.jpg
ORGANIZER;CN="Miguel Hernandez":MAILTO:miguel1530@hotmail.com
END:VEVENT
BEGIN:VEVENT
DTSTART;TZID=America/Chicago:20230905T190000
DTEND;TZID=America/Chicago:20230905T203000
DTSTAMP:20260423T084946
CREATED:20230118T213459Z
LAST-MODIFIED:20230823T164143Z
UID:28862-1693940400-1693945800@8157.mytreatmentmanager.com
SUMMARY:Council Meeting
DESCRIPTION:Installation of Officers Ceremony\n\n\n\nSpecial Guest:  \n\n\n\nMike CourtneyKnights of Columbus Dallas Diocesan Deputy.\n\n\n\nSocial time starts at 7 PM \n\n\n\nCeremony will start at 7:30 PM \n\n\n\nDress Code \n\n\n\nOfficers-Elect: Sport Coat/Suit & Tie \n\n\n\nMembers of Council: Council shirts or business attire.
URL:https://8157.mytreatmentmanager.com/event/council-meeting-2023-09/
LOCATION:Holy Spirit Catholic Church\, 1111 W Danieldale Rd\, Duncanville\, TX\, 75137\, United States
CATEGORIES:Council Activities,Meetings
ORGANIZER;CN="Mike Fitzgerald":MAILTO:5mfitzgerald0@gmail.com
END:VEVENT
BEGIN:VEVENT
DTSTART;TZID=America/Chicago:20230904T000000
DTEND;TZID=America/Chicago:20230904T235900
DTSTAMP:20260423T084946
CREATED:20230118T200926Z
LAST-MODIFIED:20230118T200929Z
UID:28798-1693785600-1693871940@8157.mytreatmentmanager.com
SUMMARY:Labor Day
DESCRIPTION:
URL:https://8157.mytreatmentmanager.com/event/labor-day-2023/
LOCATION:TX
CATEGORIES:US Holidays & Observances
END:VEVENT
BEGIN:VEVENT
DTSTART;TZID=America/Chicago:20230819T170000
DTEND;TZID=America/Chicago:20230819T170000
DTSTAMP:20260423T084946
CREATED:20230819T185645Z
LAST-MODIFIED:20230819T185647Z
UID:29320-1692464400-1692464400@8157.mytreatmentmanager.com
SUMMARY:Corporate Communion Officers Installation
DESCRIPTION:Corporate Communion Officers Installation
URL:https://8157.mytreatmentmanager.com/event/corporate-communion-officers-installation/
LOCATION:Holy Spirit Catholic Church\, 1111 W Danieldale Rd\, Duncanville\, TX\, 75137\, United States
CATEGORIES:Church Activities,Council Activities
ORGANIZER;CN="Mike Fitzgerald":MAILTO:5mfitzgerald0@gmail.com
END:VEVENT
BEGIN:VEVENT
DTSTART;TZID=America/Chicago:20230815T190000
DTEND;TZID=America/Chicago:20230815T200000
DTSTAMP:20260423T084946
CREATED:20230118T215627Z
LAST-MODIFIED:20230118T215629Z
UID:28885-1692126000-1692129600@8157.mytreatmentmanager.com
SUMMARY:Officers\, Directors & Committees Meeting
DESCRIPTION:We meet in the Community Center Building in Room #221.
URL:https://8157.mytreatmentmanager.com/event/officers-directors-meeting-2023-08/
LOCATION:Holy Spirit Catholic Church\, 1111 W Danieldale Rd\, Duncanville\, TX\, 75137\, United States
CATEGORIES:Council Activities,Meetings
ORGANIZER;CN="Jim Russell":MAILTO:jamarus2@swbell.net
END:VEVENT
BEGIN:VEVENT
DTSTART;TZID=America/Chicago:20230815T000000
DTEND;TZID=America/Chicago:20230815T235900
DTSTAMP:20260423T084946
CREATED:20230118T212208Z
LAST-MODIFIED:20230118T212209Z
UID:28842-1692057600-1692143940@8157.mytreatmentmanager.com
SUMMARY:Assumption of the Blessed Virgin Mary
DESCRIPTION:
URL:https://8157.mytreatmentmanager.com/event/assumption-of-the-blessed-virgin-mary-2023/
LOCATION:TX
CATEGORIES:Holy Days
END:VEVENT
BEGIN:VEVENT
DTSTART;TZID=America/Chicago:20230801T190000
DTEND;TZID=America/Chicago:20230801T203000
DTSTAMP:20260423T084946
CREATED:20230118T213424Z
LAST-MODIFIED:20230118T213426Z
UID:28860-1690916400-1690921800@8157.mytreatmentmanager.com
SUMMARY:Council Meeting
DESCRIPTION:Council General Membership Meeting
URL:https://8157.mytreatmentmanager.com/event/council-meeting-2023-08/
LOCATION:Holy Spirit Catholic Church\, 1111 W Danieldale Rd\, Duncanville\, TX\, 75137\, United States
CATEGORIES:Council Activities,Meetings
ORGANIZER;CN="Jim Russell":MAILTO:jamarus2@swbell.net
END:VEVENT
BEGIN:VEVENT
DTSTART;TZID=America/Chicago:20230718T190000
DTEND;TZID=America/Chicago:20230718T200000
DTSTAMP:20260423T084946
CREATED:20230118T215209Z
LAST-MODIFIED:20230118T215211Z
UID:28882-1689706800-1689710400@8157.mytreatmentmanager.com
SUMMARY:Officers\, Directors & Committees Meeting
DESCRIPTION:We meet in the Community Center Building in Room #221.
URL:https://8157.mytreatmentmanager.com/event/officers-directors-meeting-2023-07/
LOCATION:Holy Spirit Catholic Church\, 1111 W Danieldale Rd\, Duncanville\, TX\, 75137\, United States
CATEGORIES:Council Activities,Meetings
ORGANIZER;CN="Jim Russell":MAILTO:jamarus2@swbell.net
END:VEVENT
BEGIN:VEVENT
DTSTART;TZID=America/Chicago:20230704T190000
DTEND;TZID=America/Chicago:20230704T203000
DTSTAMP:20260423T084946
CREATED:20230118T213351Z
LAST-MODIFIED:20230118T213353Z
UID:28858-1688497200-1688502600@8157.mytreatmentmanager.com
SUMMARY:Council Meeting
DESCRIPTION:Council General Membership Meeting
URL:https://8157.mytreatmentmanager.com/event/council-meeting-2023-07/
LOCATION:Holy Spirit Catholic Church\, 1111 W Danieldale Rd\, Duncanville\, TX\, 75137\, United States
CATEGORIES:Council Activities,Meetings
ORGANIZER;CN="Jim Russell":MAILTO:jamarus2@swbell.net
END:VEVENT
END:VCALENDAR