BEGIN:VCALENDAR
VERSION:2.0
PRODID:-//Duncanville Texas Knights of Columbus Council 8157 - ECPv6.11.1//NONSGML v1.0//EN
CALSCALE:GREGORIAN
METHOD:PUBLISH
X-WR-CALNAME:Duncanville Texas Knights of Columbus Council 8157
X-ORIGINAL-URL:https://8157.mytreatmentmanager.com
X-WR-CALDESC:Events for Duncanville Texas Knights of Columbus Council 8157
REFRESH-INTERVAL;VALUE=DURATION:PT1H
X-Robots-Tag:noindex
X-PUBLISHED-TTL:PT1H
BEGIN:VTIMEZONE
TZID:America/Chicago
BEGIN:DAYLIGHT
TZOFFSETFROM:-0600
TZOFFSETTO:-0500
TZNAME:CDT
DTSTART:20230312T080000
END:DAYLIGHT
BEGIN:STANDARD
TZOFFSETFROM:-0500
TZOFFSETTO:-0600
TZNAME:CST
DTSTART:20231105T070000
END:STANDARD
END:VTIMEZONE
BEGIN:VEVENT
DTSTART;TZID=America/Chicago:20230518T000000
DTEND;TZID=America/Chicago:20230518T235900
DTSTAMP:20260425T062726
CREATED:20230118T211753Z
LAST-MODIFIED:20230118T211755Z
UID:28836-1684368000-1684454340@8157.mytreatmentmanager.com
SUMMARY:Ascension of Jesus
DESCRIPTION:
URL:https://8157.mytreatmentmanager.com/event/ascension-of-jesus-2023/
LOCATION:TX
CATEGORIES:Holy Days
END:VEVENT
BEGIN:VEVENT
DTSTART;TZID=America/Chicago:20230516T190000
DTEND;TZID=America/Chicago:20230516T200000
DTSTAMP:20260425T062726
CREATED:20230118T214231Z
LAST-MODIFIED:20230118T214233Z
UID:28878-1684263600-1684267200@8157.mytreatmentmanager.com
SUMMARY:Officers\, Directors & Committees Meeting
DESCRIPTION:We meet in the Community Center Building in Room #221.
URL:https://8157.mytreatmentmanager.com/event/officers-directors-meeting-2023-05/
LOCATION:Holy Spirit Catholic Church\, 1111 W Danieldale Rd\, Duncanville\, TX\, 75137\, United States
CATEGORIES:Council Activities,Meetings
ORGANIZER;CN="Jim Russell":MAILTO:jamarus2@swbell.net
END:VEVENT
BEGIN:VEVENT
DTSTART;TZID=America/Chicago:20230514T000000
DTEND;TZID=America/Chicago:20230514T235959
DTSTAMP:20260425T062726
CREATED:20230118T201611Z
LAST-MODIFIED:20230118T201613Z
UID:28810-1684022400-1684108799@8157.mytreatmentmanager.com
SUMMARY:Mother's Day
DESCRIPTION:
URL:https://8157.mytreatmentmanager.com/event/mothers-day-2023/
LOCATION:TX
CATEGORIES:US Holidays & Observances
END:VEVENT
BEGIN:VEVENT
DTSTART;TZID=America/Chicago:20230505T000000
DTEND;TZID=America/Chicago:20230507T235959
DTSTAMP:20260425T062726
CREATED:20230118T210128Z
LAST-MODIFIED:20230118T210301Z
UID:28824-1683244800-1683503999@8157.mytreatmentmanager.com
SUMMARY:119th Texas State Convention of the Knights of Columbus
DESCRIPTION:The Knights of Columbus members and their families from the Archdiocese of Dallas and the Dallas Diocese Chapter Convention Committee would like to welcome you to the 119th State Convention of the Texas State Council.
URL:https://8157.mytreatmentmanager.com/event/119th-kofc-texas-state-convention/
LOCATION:Sheraton Dallas Hotel\, 400 North Olive Street\, Dallas\, Texas\, 75201\, United States
CATEGORIES:Council Activities,Texas State Council
ATTACH;FMTTYPE=image/png:https://8157.mytreatmentmanager.com/wp-content/uploads/2016/02/kofc-logo-3rddegree.png
ORGANIZER;CN="Mike Courtney%2C Dallas Diocesan Deputy":MAILTO:Mike.Courtney@reclaimedtextiles.com
END:VEVENT
BEGIN:VEVENT
DTSTART;TZID=America/Chicago:20230502T190000
DTEND;TZID=America/Chicago:20230502T203000
DTSTAMP:20260425T062726
CREATED:20230118T213235Z
LAST-MODIFIED:20230118T213237Z
UID:28854-1683054000-1683059400@8157.mytreatmentmanager.com
SUMMARY:Council Meeting
DESCRIPTION:Council General Membership Meeting
URL:https://8157.mytreatmentmanager.com/event/council-meeting-2023-05/
LOCATION:Holy Spirit Catholic Church\, 1111 W Danieldale Rd\, Duncanville\, TX\, 75137\, United States
CATEGORIES:Council Activities,Meetings
ORGANIZER;CN="Jim Russell":MAILTO:jamarus2@swbell.net
END:VEVENT
BEGIN:VEVENT
DTSTART;TZID=America/Chicago:20230418T190000
DTEND;TZID=America/Chicago:20230418T200000
DTSTAMP:20260425T062726
CREATED:20230118T214157Z
LAST-MODIFIED:20230118T214158Z
UID:28876-1681844400-1681848000@8157.mytreatmentmanager.com
SUMMARY:Officers\, Directors & Committees Meeting
DESCRIPTION:We meet in the Community Center Building in Room #221.
URL:https://8157.mytreatmentmanager.com/event/officers-directors-meeting-2023-04/
LOCATION:Holy Spirit Catholic Church\, 1111 W Danieldale Rd\, Duncanville\, TX\, 75137\, United States
CATEGORIES:Council Activities,Meetings
ORGANIZER;CN="Jim Russell":MAILTO:jamarus2@swbell.net
END:VEVENT
BEGIN:VEVENT
DTSTART;TZID=America/Chicago:20230418T000000
DTEND;TZID=America/Chicago:20230418T235959
DTSTAMP:20260425T062726
CREATED:20230118T211539Z
LAST-MODIFIED:20230118T211540Z
UID:28834-1681776000-1681862399@8157.mytreatmentmanager.com
SUMMARY:Tax Day
DESCRIPTION:
URL:https://8157.mytreatmentmanager.com/event/tax-day-2023/
LOCATION:TX
CATEGORIES:US Holidays & Observances
END:VEVENT
BEGIN:VEVENT
DTSTART;TZID=America/Chicago:20230409T000000
DTEND;TZID=America/Chicago:20230409T235900
DTSTAMP:20260425T062726
CREATED:20230118T194245Z
LAST-MODIFIED:20230118T194246Z
UID:28782-1680998400-1681084740@8157.mytreatmentmanager.com
SUMMARY:Easter
DESCRIPTION:
URL:https://8157.mytreatmentmanager.com/event/easter-2023/
LOCATION:TX
CATEGORIES:Holy Days
END:VEVENT
BEGIN:VEVENT
DTSTART;TZID=America/Chicago:20230408T000000
DTEND;TZID=America/Chicago:20230408T235959
DTSTAMP:20260425T062726
CREATED:20230118T211414Z
LAST-MODIFIED:20230118T211415Z
UID:28832-1680912000-1680998399@8157.mytreatmentmanager.com
SUMMARY:Easter Vigil
DESCRIPTION:
URL:https://8157.mytreatmentmanager.com/event/easter-vigil-2023/
LOCATION:TX
CATEGORIES:Holy Days
END:VEVENT
BEGIN:VEVENT
DTSTART;TZID=America/Chicago:20230407T000000
DTEND;TZID=America/Chicago:20230407T235900
DTSTAMP:20260425T062726
CREATED:20230118T194538Z
LAST-MODIFIED:20230118T194539Z
UID:28786-1680825600-1680911940@8157.mytreatmentmanager.com
SUMMARY:Good Friday
DESCRIPTION:
URL:https://8157.mytreatmentmanager.com/event/good-friday-2023/
LOCATION:TX
CATEGORIES:Holy Days
END:VEVENT
BEGIN:VEVENT
DTSTART;TZID=America/Chicago:20230404T190000
DTEND;TZID=America/Chicago:20230404T203000
DTSTAMP:20260425T062726
CREATED:20230118T213156Z
LAST-MODIFIED:20230118T213158Z
UID:28852-1680634800-1680640200@8157.mytreatmentmanager.com
SUMMARY:Council Meeting
DESCRIPTION:Council General Membership Meeting
URL:https://8157.mytreatmentmanager.com/event/council-meeting-2023-04/
LOCATION:Holy Spirit Catholic Church\, 1111 W Danieldale Rd\, Duncanville\, TX\, 75137\, United States
CATEGORIES:Council Activities,Meetings
ORGANIZER;CN="Jim Russell":MAILTO:jamarus2@swbell.net
END:VEVENT
BEGIN:VEVENT
DTSTART;TZID=America/Chicago:20230402T000000
DTEND;TZID=America/Chicago:20230402T235959
DTSTAMP:20260425T062726
CREATED:20230118T194330Z
LAST-MODIFIED:20230118T194332Z
UID:28784-1680393600-1680479999@8157.mytreatmentmanager.com
SUMMARY:Palm Sunday
DESCRIPTION:
URL:https://8157.mytreatmentmanager.com/event/palm-sunday-2023/
LOCATION:TX
CATEGORIES:Holy Days
END:VEVENT
BEGIN:VEVENT
DTSTART;TZID=America/Chicago:20230331T170000
DTEND;TZID=America/Chicago:20230331T190000
DTSTAMP:20260425T062726
CREATED:20230118T182134Z
LAST-MODIFIED:20230212T220512Z
UID:28780-1680282000-1680289200@8157.mytreatmentmanager.com
SUMMARY:Fish Fry - Dine-In Service
DESCRIPTION:The Knights of Columbus Fish Fry will be held as dine-in service.
URL:https://8157.mytreatmentmanager.com/event/fish-fry-2023-03-31/
LOCATION:Holy Spirit Catholic Church\, 1111 W Danieldale Rd\, Duncanville\, TX\, 75137\, United States
CATEGORIES:Church Activities,Community Activities
ORGANIZER;CN="Dan Murphy":MAILTO:maggie9982@sbcglobal.net
END:VEVENT
BEGIN:VEVENT
DTSTART;TZID=America/Chicago:20230324T170000
DTEND;TZID=America/Chicago:20230324T190000
DTSTAMP:20260425T062726
CREATED:20230118T182021Z
LAST-MODIFIED:20230212T220436Z
UID:28778-1679677200-1679684400@8157.mytreatmentmanager.com
SUMMARY:Fish Fry - Dine-In Service
DESCRIPTION:The Knights of Columbus Fish Fry will be held as dine-in service.
URL:https://8157.mytreatmentmanager.com/event/fish-fry-2023-03-24/
LOCATION:Holy Spirit Catholic Church\, 1111 W Danieldale Rd\, Duncanville\, TX\, 75137\, United States
CATEGORIES:Church Activities,Community Activities
ORGANIZER;CN="Dan Murphy":MAILTO:maggie9982@sbcglobal.net
END:VEVENT
BEGIN:VEVENT
DTSTART;TZID=America/Chicago:20230321T190000
DTEND;TZID=America/Chicago:20230321T200000
DTSTAMP:20260425T062726
CREATED:20230118T214001Z
LAST-MODIFIED:20230118T214004Z
UID:28874-1679425200-1679428800@8157.mytreatmentmanager.com
SUMMARY:Officers\, Directors & Committees Meeting
DESCRIPTION:We meet in the Community Center Building in Room #221.
URL:https://8157.mytreatmentmanager.com/event/officers-directors-meeting-2023-03/
LOCATION:Holy Spirit Catholic Church\, 1111 W Danieldale Rd\, Duncanville\, TX\, 75137\, United States
CATEGORIES:Council Activities,Meetings
ORGANIZER;CN="Jim Russell":MAILTO:jamarus2@swbell.net
END:VEVENT
BEGIN:VEVENT
DTSTART;TZID=America/Chicago:20230317T170000
DTEND;TZID=America/Chicago:20230317T190000
DTSTAMP:20260425T062726
CREATED:20230118T181929Z
LAST-MODIFIED:20230212T220404Z
UID:28776-1679072400-1679079600@8157.mytreatmentmanager.com
SUMMARY:Fish Fry - Dine-In Service
DESCRIPTION:The Knights of Columbus Fish Fry will be held as dine-in service.
URL:https://8157.mytreatmentmanager.com/event/fish-fry-2023-03-17/
LOCATION:Holy Spirit Catholic Church\, 1111 W Danieldale Rd\, Duncanville\, TX\, 75137\, United States
CATEGORIES:Church Activities,Community Activities
ORGANIZER;CN="Dan Murphy":MAILTO:maggie9982@sbcglobal.net
END:VEVENT
BEGIN:VEVENT
DTSTART;TZID=America/Chicago:20230317T000000
DTEND;TZID=America/Chicago:20230317T235959
DTSTAMP:20260425T062726
CREATED:20230118T201957Z
LAST-MODIFIED:20230118T201959Z
UID:28814-1679011200-1679097599@8157.mytreatmentmanager.com
SUMMARY:St. Patrick's Day
DESCRIPTION:
URL:https://8157.mytreatmentmanager.com/event/st-patricks-day-2023/
LOCATION:TX
CATEGORIES:US Holidays & Observances
END:VEVENT
BEGIN:VEVENT
DTSTART;TZID=America/Chicago:20230310T170000
DTEND;TZID=America/Chicago:20230310T190000
DTSTAMP:20260425T062726
CREATED:20230118T181846Z
LAST-MODIFIED:20230212T220324Z
UID:28774-1678467600-1678474800@8157.mytreatmentmanager.com
SUMMARY:Fish Fry - Dine-In Service
DESCRIPTION:The Knights of Columbus Fish Fry will be held as dine-in service.
URL:https://8157.mytreatmentmanager.com/event/fish-fry-2023-03-10/
LOCATION:Holy Spirit Catholic Church\, 1111 W Danieldale Rd\, Duncanville\, TX\, 75137\, United States
CATEGORIES:Church Activities,Community Activities
ORGANIZER;CN="Dan Murphy":MAILTO:maggie9982@sbcglobal.net
END:VEVENT
BEGIN:VEVENT
DTSTART;TZID=America/Chicago:20230307T190000
DTEND;TZID=America/Chicago:20230307T203000
DTSTAMP:20260425T062726
CREATED:20230118T213121Z
LAST-MODIFIED:20230118T213123Z
UID:28850-1678215600-1678221000@8157.mytreatmentmanager.com
SUMMARY:Council Meeting
DESCRIPTION:Council General Membership Meeting
URL:https://8157.mytreatmentmanager.com/event/council-meeting-2023-03/
LOCATION:Holy Spirit Catholic Church\, 1111 W Danieldale Rd\, Duncanville\, TX\, 75137\, United States
CATEGORIES:Council Activities,Meetings
ORGANIZER;CN="Jim Russell":MAILTO:jamarus2@swbell.net
END:VEVENT
BEGIN:VEVENT
DTSTART;TZID=America/Chicago:20230303T170000
DTEND;TZID=America/Chicago:20230303T190000
DTSTAMP:20260425T062726
CREATED:20230118T181723Z
LAST-MODIFIED:20230212T220247Z
UID:28772-1677862800-1677870000@8157.mytreatmentmanager.com
SUMMARY:Fish Fry - Dine-In Service
DESCRIPTION:The Knights of Columbus Fish Fry will be held as dine-in service.
URL:https://8157.mytreatmentmanager.com/event/fish-fry-2023-03-03/
LOCATION:Holy Spirit Catholic Church\, 1111 W Danieldale Rd\, Duncanville\, TX\, 75137\, United States
CATEGORIES:Church Activities,Community Activities
ORGANIZER;CN="Dan Murphy":MAILTO:maggie9982@sbcglobal.net
END:VEVENT
BEGIN:VEVENT
DTSTART;TZID=America/Chicago:20230224T170000
DTEND;TZID=America/Chicago:20230224T190000
DTSTAMP:20260425T062726
CREATED:20230118T181332Z
LAST-MODIFIED:20230212T220206Z
UID:28769-1677258000-1677265200@8157.mytreatmentmanager.com
SUMMARY:Fish Fry - Dine-In Service
DESCRIPTION:The Knights of Columbus Fish Fry will be held as dine-in service.
URL:https://8157.mytreatmentmanager.com/event/fish-fry-2023-02-24/
LOCATION:Holy Spirit Catholic Church\, 1111 W Danieldale Rd\, Duncanville\, TX\, 75137\, United States
CATEGORIES:Church Activities,Community Activities
ORGANIZER;CN="Dan Murphy":MAILTO:maggie9982@sbcglobal.net
END:VEVENT
BEGIN:VEVENT
DTSTART;TZID=America/Chicago:20230222T000000
DTEND;TZID=America/Chicago:20230222T235900
DTSTAMP:20260425T062726
CREATED:20230118T180659Z
LAST-MODIFIED:20230118T180900Z
UID:28766-1677024000-1677110340@8157.mytreatmentmanager.com
SUMMARY:Ash Wednesday
DESCRIPTION:Start of Lent season.
URL:https://8157.mytreatmentmanager.com/event/ash-wednesday-2023/
LOCATION:TX
CATEGORIES:Holy Days
END:VEVENT
BEGIN:VEVENT
DTSTART;TZID=America/Chicago:20230221T190000
DTEND;TZID=America/Chicago:20230221T200000
DTSTAMP:20260425T062726
CREATED:20230118T213912Z
LAST-MODIFIED:20230118T214049Z
UID:28872-1677006000-1677009600@8157.mytreatmentmanager.com
SUMMARY:Officers\, Directors & Committees Meeting
DESCRIPTION:We meet in the Community Center Building in Room #221.
URL:https://8157.mytreatmentmanager.com/event/officers-directors-meeting-2023-02/
LOCATION:Holy Spirit Catholic Church\, 1111 W Danieldale Rd\, Duncanville\, TX\, 75137\, United States
CATEGORIES:Council Activities,Meetings
ORGANIZER;CN="Jim Russell":MAILTO:jamarus2@swbell.net
END:VEVENT
BEGIN:VEVENT
DTSTART;TZID=America/Chicago:20230220T000000
DTEND;TZID=America/Chicago:20230220T235900
DTSTAMP:20260425T062726
CREATED:20230118T195202Z
LAST-MODIFIED:20230118T195204Z
UID:28792-1676851200-1676937540@8157.mytreatmentmanager.com
SUMMARY:Presidents' Day
DESCRIPTION:George Washington’s and Abraham Lincoln’s Birthdays Observed
URL:https://8157.mytreatmentmanager.com/event/george-washington-birthday-2023/
LOCATION:TX
CATEGORIES:US Holidays & Observances
END:VEVENT
BEGIN:VEVENT
DTSTART;TZID=America/Chicago:20230214T000000
DTEND;TZID=America/Chicago:20230214T235959
DTSTAMP:20260425T062726
CREATED:20230118T194850Z
LAST-MODIFIED:20230118T194852Z
UID:28788-1676332800-1676419199@8157.mytreatmentmanager.com
SUMMARY:Valentine's Day
DESCRIPTION:
URL:https://8157.mytreatmentmanager.com/event/valentines-day-2023/
LOCATION:TX
CATEGORIES:US Holidays & Observances
END:VEVENT
BEGIN:VEVENT
DTSTART;TZID=America/Chicago:20230207T190000
DTEND;TZID=America/Chicago:20230207T203000
DTSTAMP:20260425T062726
CREATED:20230118T213038Z
LAST-MODIFIED:20230118T213040Z
UID:28848-1675796400-1675801800@8157.mytreatmentmanager.com
SUMMARY:Council Meeting
DESCRIPTION:Council General Membership Meeting
URL:https://8157.mytreatmentmanager.com/event/council-meeting-2023-02/
LOCATION:Holy Spirit Catholic Church\, 1111 W Danieldale Rd\, Duncanville\, TX\, 75137\, United States
CATEGORIES:Council Activities,Meetings
ORGANIZER;CN="Jim Russell":MAILTO:jamarus2@swbell.net
END:VEVENT
BEGIN:VEVENT
DTSTART;TZID=America/Chicago:20230122T060000
DTEND;TZID=America/Chicago:20230122T120000
DTSTAMP:20260425T062726
CREATED:20230119T142034Z
LAST-MODIFIED:20230119T142036Z
UID:28898-1674367200-1674388800@8157.mytreatmentmanager.com
SUMMARY:Parish Breakfast
DESCRIPTION:We will be cooking and serving breakfast for the parish community consisting of bacon\, pancakes\, hash browns\, sausage\, biscuits and gravy along with drinks. Two shifts will be worked (6AM – 9AM & 9AM – 12PM) \n\n\n\nIf you haven’t signed up to volunteer for this\, it’s not too late.  James Smith is putting this together (214-240-8315 or jcjasmith@hotmail.com.)\, let him  know you are planning to help!
URL:https://8157.mytreatmentmanager.com/event/parish-breakfast/
LOCATION:Holy Spirit Catholic Church\, 1111 W Danieldale Rd\, Duncanville\, TX\, 75137\, United States
CATEGORIES:Church Activities
ORGANIZER;CN="James Smith":MAILTO:jcjasmith@hotmail.com
END:VEVENT
BEGIN:VEVENT
DTSTART;TZID=America/Chicago:20230117T190000
DTEND;TZID=America/Chicago:20230117T200000
DTSTAMP:20260425T062726
CREATED:20230118T213833Z
LAST-MODIFIED:20230118T213835Z
UID:28870-1673982000-1673985600@8157.mytreatmentmanager.com
SUMMARY:Officers\, Directors & Committees Meeting
DESCRIPTION:We meet in the Community Center Building in Room #221.
URL:https://8157.mytreatmentmanager.com/event/officers-directors-meeting-2023-01/
LOCATION:Holy Spirit Catholic Church\, 1111 W Danieldale Rd\, Duncanville\, TX\, 75137\, United States
CATEGORIES:Council Activities,Meetings
ORGANIZER;CN="Jim Russell":MAILTO:jamarus2@swbell.net
END:VEVENT
BEGIN:VEVENT
DTSTART;TZID=America/Chicago:20230116T000000
DTEND;TZID=America/Chicago:20230116T235900
DTSTAMP:20260425T062726
CREATED:20230118T195004Z
LAST-MODIFIED:20230118T195006Z
UID:28790-1673827200-1673913540@8157.mytreatmentmanager.com
SUMMARY:Martin Luther King Jr. Day
DESCRIPTION:
URL:https://8157.mytreatmentmanager.com/event/martin-luther-king-jr-day-2023/
LOCATION:TX
CATEGORIES:US Holidays & Observances
END:VEVENT
BEGIN:VEVENT
DTSTART;TZID=America/Chicago:20230101T000000
DTEND;TZID=America/Chicago:20230101T235959
DTSTAMP:20260425T062726
CREATED:20220217T202729Z
LAST-MODIFIED:20220217T202731Z
UID:26651-1672531200-1672617599@8157.mytreatmentmanager.com
SUMMARY:New Year's Day
DESCRIPTION:
URL:https://8157.mytreatmentmanager.com/event/new-years-day-2023/
LOCATION:TX
CATEGORIES:US Holidays & Observances
END:VEVENT
END:VCALENDAR