BEGIN:VCALENDAR
VERSION:2.0
PRODID:-//Duncanville Texas Knights of Columbus Council 8157 - ECPv6.11.1//NONSGML v1.0//EN
CALSCALE:GREGORIAN
METHOD:PUBLISH
X-WR-CALNAME:Duncanville Texas Knights of Columbus Council 8157
X-ORIGINAL-URL:https://8157.mytreatmentmanager.com
X-WR-CALDESC:Events for Duncanville Texas Knights of Columbus Council 8157
REFRESH-INTERVAL;VALUE=DURATION:PT1H
X-Robots-Tag:noindex
X-PUBLISHED-TTL:PT1H
BEGIN:VTIMEZONE
TZID:America/Chicago
BEGIN:DAYLIGHT
TZOFFSETFROM:-0600
TZOFFSETTO:-0500
TZNAME:CDT
DTSTART:20220313T080000
END:DAYLIGHT
BEGIN:STANDARD
TZOFFSETFROM:-0500
TZOFFSETTO:-0600
TZNAME:CST
DTSTART:20221106T070000
END:STANDARD
BEGIN:DAYLIGHT
TZOFFSETFROM:-0600
TZOFFSETTO:-0500
TZNAME:CDT
DTSTART:20230312T080000
END:DAYLIGHT
BEGIN:STANDARD
TZOFFSETFROM:-0500
TZOFFSETTO:-0600
TZNAME:CST
DTSTART:20231105T070000
END:STANDARD
END:VTIMEZONE
BEGIN:VEVENT
DTSTART;TZID=America/Chicago:20230224T170000
DTEND;TZID=America/Chicago:20230224T190000
DTSTAMP:20260425T130052
CREATED:20230118T181332Z
LAST-MODIFIED:20230212T220206Z
UID:28769-1677258000-1677265200@8157.mytreatmentmanager.com
SUMMARY:Fish Fry - Dine-In Service
DESCRIPTION:The Knights of Columbus Fish Fry will be held as dine-in service.
URL:https://8157.mytreatmentmanager.com/event/fish-fry-2023-02-24/
LOCATION:Holy Spirit Catholic Church\, 1111 W Danieldale Rd\, Duncanville\, TX\, 75137\, United States
CATEGORIES:Church Activities,Community Activities
ORGANIZER;CN="Dan Murphy":MAILTO:maggie9982@sbcglobal.net
END:VEVENT
BEGIN:VEVENT
DTSTART;TZID=America/Chicago:20230222T000000
DTEND;TZID=America/Chicago:20230222T235900
DTSTAMP:20260425T130052
CREATED:20230118T180659Z
LAST-MODIFIED:20230118T180900Z
UID:28766-1677024000-1677110340@8157.mytreatmentmanager.com
SUMMARY:Ash Wednesday
DESCRIPTION:Start of Lent season.
URL:https://8157.mytreatmentmanager.com/event/ash-wednesday-2023/
LOCATION:TX
CATEGORIES:Holy Days
END:VEVENT
BEGIN:VEVENT
DTSTART;TZID=America/Chicago:20230221T190000
DTEND;TZID=America/Chicago:20230221T200000
DTSTAMP:20260425T130052
CREATED:20230118T213912Z
LAST-MODIFIED:20230118T214049Z
UID:28872-1677006000-1677009600@8157.mytreatmentmanager.com
SUMMARY:Officers\, Directors & Committees Meeting
DESCRIPTION:We meet in the Community Center Building in Room #221.
URL:https://8157.mytreatmentmanager.com/event/officers-directors-meeting-2023-02/
LOCATION:Holy Spirit Catholic Church\, 1111 W Danieldale Rd\, Duncanville\, TX\, 75137\, United States
CATEGORIES:Council Activities,Meetings
ORGANIZER;CN="Jim Russell":MAILTO:jamarus2@swbell.net
END:VEVENT
BEGIN:VEVENT
DTSTART;TZID=America/Chicago:20230220T000000
DTEND;TZID=America/Chicago:20230220T235900
DTSTAMP:20260425T130052
CREATED:20230118T195202Z
LAST-MODIFIED:20230118T195204Z
UID:28792-1676851200-1676937540@8157.mytreatmentmanager.com
SUMMARY:Presidents' Day
DESCRIPTION:George Washington’s and Abraham Lincoln’s Birthdays Observed
URL:https://8157.mytreatmentmanager.com/event/george-washington-birthday-2023/
LOCATION:TX
CATEGORIES:US Holidays & Observances
END:VEVENT
BEGIN:VEVENT
DTSTART;TZID=America/Chicago:20230214T000000
DTEND;TZID=America/Chicago:20230214T235959
DTSTAMP:20260425T130052
CREATED:20230118T194850Z
LAST-MODIFIED:20230118T194852Z
UID:28788-1676332800-1676419199@8157.mytreatmentmanager.com
SUMMARY:Valentine's Day
DESCRIPTION:
URL:https://8157.mytreatmentmanager.com/event/valentines-day-2023/
LOCATION:TX
CATEGORIES:US Holidays & Observances
END:VEVENT
BEGIN:VEVENT
DTSTART;TZID=America/Chicago:20230207T190000
DTEND;TZID=America/Chicago:20230207T203000
DTSTAMP:20260425T130052
CREATED:20230118T213038Z
LAST-MODIFIED:20230118T213040Z
UID:28848-1675796400-1675801800@8157.mytreatmentmanager.com
SUMMARY:Council Meeting
DESCRIPTION:Council General Membership Meeting
URL:https://8157.mytreatmentmanager.com/event/council-meeting-2023-02/
LOCATION:Holy Spirit Catholic Church\, 1111 W Danieldale Rd\, Duncanville\, TX\, 75137\, United States
CATEGORIES:Council Activities,Meetings
ORGANIZER;CN="Jim Russell":MAILTO:jamarus2@swbell.net
END:VEVENT
BEGIN:VEVENT
DTSTART;TZID=America/Chicago:20230122T060000
DTEND;TZID=America/Chicago:20230122T120000
DTSTAMP:20260425T130052
CREATED:20230119T142034Z
LAST-MODIFIED:20230119T142036Z
UID:28898-1674367200-1674388800@8157.mytreatmentmanager.com
SUMMARY:Parish Breakfast
DESCRIPTION:We will be cooking and serving breakfast for the parish community consisting of bacon\, pancakes\, hash browns\, sausage\, biscuits and gravy along with drinks. Two shifts will be worked (6AM – 9AM & 9AM – 12PM) \n\n\n\nIf you haven’t signed up to volunteer for this\, it’s not too late.  James Smith is putting this together (214-240-8315 or jcjasmith@hotmail.com.)\, let him  know you are planning to help!
URL:https://8157.mytreatmentmanager.com/event/parish-breakfast/
LOCATION:Holy Spirit Catholic Church\, 1111 W Danieldale Rd\, Duncanville\, TX\, 75137\, United States
CATEGORIES:Church Activities
ORGANIZER;CN="James Smith":MAILTO:jcjasmith@hotmail.com
END:VEVENT
BEGIN:VEVENT
DTSTART;TZID=America/Chicago:20230117T190000
DTEND;TZID=America/Chicago:20230117T200000
DTSTAMP:20260425T130052
CREATED:20230118T213833Z
LAST-MODIFIED:20230118T213835Z
UID:28870-1673982000-1673985600@8157.mytreatmentmanager.com
SUMMARY:Officers\, Directors & Committees Meeting
DESCRIPTION:We meet in the Community Center Building in Room #221.
URL:https://8157.mytreatmentmanager.com/event/officers-directors-meeting-2023-01/
LOCATION:Holy Spirit Catholic Church\, 1111 W Danieldale Rd\, Duncanville\, TX\, 75137\, United States
CATEGORIES:Council Activities,Meetings
ORGANIZER;CN="Jim Russell":MAILTO:jamarus2@swbell.net
END:VEVENT
BEGIN:VEVENT
DTSTART;TZID=America/Chicago:20230116T000000
DTEND;TZID=America/Chicago:20230116T235900
DTSTAMP:20260425T130052
CREATED:20230118T195004Z
LAST-MODIFIED:20230118T195006Z
UID:28790-1673827200-1673913540@8157.mytreatmentmanager.com
SUMMARY:Martin Luther King Jr. Day
DESCRIPTION:
URL:https://8157.mytreatmentmanager.com/event/martin-luther-king-jr-day-2023/
LOCATION:TX
CATEGORIES:US Holidays & Observances
END:VEVENT
BEGIN:VEVENT
DTSTART;TZID=America/Chicago:20230101T000000
DTEND;TZID=America/Chicago:20230101T235959
DTSTAMP:20260425T130052
CREATED:20220217T202729Z
LAST-MODIFIED:20220217T202731Z
UID:26651-1672531200-1672617599@8157.mytreatmentmanager.com
SUMMARY:New Year's Day
DESCRIPTION:
URL:https://8157.mytreatmentmanager.com/event/new-years-day-2023/
LOCATION:TX
CATEGORIES:US Holidays & Observances
END:VEVENT
BEGIN:VEVENT
DTSTART;TZID=America/Chicago:20221231T000000
DTEND;TZID=America/Chicago:20221231T235959
DTSTAMP:20260425T130052
CREATED:20220217T202650Z
LAST-MODIFIED:20220217T202652Z
UID:26649-1672444800-1672531199@8157.mytreatmentmanager.com
SUMMARY:New Year's Eve
DESCRIPTION:
URL:https://8157.mytreatmentmanager.com/event/new-years-eve-2022/
LOCATION:TX
CATEGORIES:US Holidays & Observances
END:VEVENT
BEGIN:VEVENT
DTSTART;TZID=America/Chicago:20221225T000000
DTEND;TZID=America/Chicago:20221225T235900
DTSTAMP:20260425T130052
CREATED:20220217T202559Z
LAST-MODIFIED:20220217T202600Z
UID:26647-1671926400-1672012740@8157.mytreatmentmanager.com
SUMMARY:Christmas
DESCRIPTION:
URL:https://8157.mytreatmentmanager.com/event/christmas-2022/
LOCATION:TX
CATEGORIES:Holy Days,US Holidays & Observances
END:VEVENT
BEGIN:VEVENT
DTSTART;TZID=America/Chicago:20221224T000000
DTEND;TZID=America/Chicago:20221224T235959
DTSTAMP:20260425T130052
CREATED:20220217T202528Z
LAST-MODIFIED:20220217T202529Z
UID:26645-1671840000-1671926399@8157.mytreatmentmanager.com
SUMMARY:Christmas Eve
DESCRIPTION:
URL:https://8157.mytreatmentmanager.com/event/christmas-eve-2022/
LOCATION:TX
CATEGORIES:Holy Days,US Holidays & Observances
END:VEVENT
BEGIN:VEVENT
DTSTART;TZID=America/Chicago:20221220T190000
DTEND;TZID=America/Chicago:20221220T200000
DTSTAMP:20260425T130052
CREATED:20220217T161608Z
LAST-MODIFIED:20220217T161609Z
UID:26557-1671562800-1671566400@8157.mytreatmentmanager.com
SUMMARY:Officers\, Directors & Committees Meeting
DESCRIPTION:We’re meeting in person in the Community Center Building in Room #221.
URL:https://8157.mytreatmentmanager.com/event/officers-directors-meeting-2022-12/
LOCATION:Holy Spirit Catholic Church\, 1111 W Danieldale Rd\, Duncanville\, TX\, 75137\, United States
CATEGORIES:Council Activities,Meetings
END:VEVENT
BEGIN:VEVENT
DTSTART;TZID=America/Chicago:20221208T000000
DTEND;TZID=America/Chicago:20221208T235900
DTSTAMP:20260425T130052
CREATED:20220217T202418Z
LAST-MODIFIED:20220217T202420Z
UID:26643-1670457600-1670543940@8157.mytreatmentmanager.com
SUMMARY:The Immaculate Conception of the Blessed Virgin Mary
DESCRIPTION:
URL:https://8157.mytreatmentmanager.com/event/the-immaculate-conception-of-the-blessed-virgin-mary-2022/
LOCATION:TX
CATEGORIES:Holy Days
END:VEVENT
BEGIN:VEVENT
DTSTART;TZID=America/Chicago:20221206T190000
DTEND;TZID=America/Chicago:20221206T203000
DTSTAMP:20260425T130052
CREATED:20220217T160029Z
LAST-MODIFIED:20220217T160030Z
UID:26530-1670353200-1670358600@8157.mytreatmentmanager.com
SUMMARY:Council Meeting
DESCRIPTION:Council General Membership Meeting in the Upper Room dining hall.
URL:https://8157.mytreatmentmanager.com/event/council-meeting-2022-12/
LOCATION:Holy Spirit Catholic Church\, 1111 W Danieldale Rd\, Duncanville\, TX\, 75137\, United States
CATEGORIES:Council Activities,Meetings
END:VEVENT
BEGIN:VEVENT
DTSTART;TZID=America/Chicago:20221124T000000
DTEND;TZID=America/Chicago:20221124T235900
DTSTAMP:20260425T130052
CREATED:20220217T202307Z
LAST-MODIFIED:20220217T202309Z
UID:26641-1669248000-1669334340@8157.mytreatmentmanager.com
SUMMARY:Thanksgiving Day
DESCRIPTION:
URL:https://8157.mytreatmentmanager.com/event/thanksgiving-day-2022/
LOCATION:TX
CATEGORIES:US Holidays & Observances
END:VEVENT
BEGIN:VEVENT
DTSTART;TZID=America/Chicago:20221115T190000
DTEND;TZID=America/Chicago:20221115T200000
DTSTAMP:20260425T130052
CREATED:20220217T161533Z
LAST-MODIFIED:20220217T161534Z
UID:26555-1668538800-1668542400@8157.mytreatmentmanager.com
SUMMARY:Officers\, Directors & Committees Meeting
DESCRIPTION:We’re meeting in person in the Community Center Building in Room #221.
URL:https://8157.mytreatmentmanager.com/event/officers-directors-meeting-2022-11/
LOCATION:Holy Spirit Catholic Church\, 1111 W Danieldale Rd\, Duncanville\, TX\, 75137\, United States
CATEGORIES:Council Activities,Meetings
END:VEVENT
BEGIN:VEVENT
DTSTART;TZID=America/Chicago:20221111T000000
DTEND;TZID=America/Chicago:20221111T235900
DTSTAMP:20260425T130052
CREATED:20220217T202130Z
LAST-MODIFIED:20220217T202131Z
UID:26639-1668124800-1668211140@8157.mytreatmentmanager.com
SUMMARY:Veterans Day
DESCRIPTION:
URL:https://8157.mytreatmentmanager.com/event/veterans-day-2022/
LOCATION:TX
CATEGORIES:US Holidays & Observances
END:VEVENT
BEGIN:VEVENT
DTSTART;TZID=America/Chicago:20221101T190000
DTEND;TZID=America/Chicago:20221101T203000
DTSTAMP:20260425T130052
CREATED:20220217T155946Z
LAST-MODIFIED:20220217T155947Z
UID:26528-1667329200-1667334600@8157.mytreatmentmanager.com
SUMMARY:Council Meeting
DESCRIPTION:Council General Membership Meeting in the Upper Room dining hall.
URL:https://8157.mytreatmentmanager.com/event/council-meeting-2022-11/
LOCATION:Holy Spirit Catholic Church\, 1111 W Danieldale Rd\, Duncanville\, TX\, 75137\, United States
CATEGORIES:Council Activities,Meetings
END:VEVENT
BEGIN:VEVENT
DTSTART;TZID=America/Chicago:20221101T000000
DTEND;TZID=America/Chicago:20221101T235900
DTSTAMP:20260425T130052
CREATED:20220217T202039Z
LAST-MODIFIED:20220217T202041Z
UID:26637-1667260800-1667347140@8157.mytreatmentmanager.com
SUMMARY:All Saints Day
DESCRIPTION:
URL:https://8157.mytreatmentmanager.com/event/all-saints-day-2022/
LOCATION:TX
CATEGORIES:Holy Days
END:VEVENT
BEGIN:VEVENT
DTSTART;TZID=America/Chicago:20221031T000000
DTEND;TZID=America/Chicago:20221031T235900
DTSTAMP:20260425T130052
CREATED:20220217T201947Z
LAST-MODIFIED:20220217T201948Z
UID:26635-1667174400-1667260740@8157.mytreatmentmanager.com
SUMMARY:Halloween
DESCRIPTION:
URL:https://8157.mytreatmentmanager.com/event/halloween-2022/
LOCATION:TX
CATEGORIES:US Holidays & Observances
END:VEVENT
BEGIN:VEVENT
DTSTART;TZID=America/Chicago:20221018T190000
DTEND;TZID=America/Chicago:20221018T200000
DTSTAMP:20260425T130052
CREATED:20220217T161456Z
LAST-MODIFIED:20220217T161457Z
UID:26553-1666119600-1666123200@8157.mytreatmentmanager.com
SUMMARY:Officers\, Directors & Committees Meeting
DESCRIPTION:We’re meeting in person in the Community Center Building in Room #221.
URL:https://8157.mytreatmentmanager.com/event/officers-directors-meeting-2022-10/
LOCATION:Holy Spirit Catholic Church\, 1111 W Danieldale Rd\, Duncanville\, TX\, 75137\, United States
CATEGORIES:Council Activities,Meetings
END:VEVENT
BEGIN:VEVENT
DTSTART;TZID=America/Chicago:20221010T000000
DTEND;TZID=America/Chicago:20221010T235900
DTSTAMP:20260425T130052
CREATED:20220217T201900Z
LAST-MODIFIED:20220217T201902Z
UID:26633-1665360000-1665446340@8157.mytreatmentmanager.com
SUMMARY:Columbus Day
DESCRIPTION:
URL:https://8157.mytreatmentmanager.com/event/columbus-day-2022/
LOCATION:TX
CATEGORIES:US Holidays & Observances
END:VEVENT
BEGIN:VEVENT
DTSTART;TZID=America/Chicago:20221004T190000
DTEND;TZID=America/Chicago:20221004T203000
DTSTAMP:20260425T130052
CREATED:20220217T155848Z
LAST-MODIFIED:20220217T155850Z
UID:26526-1664910000-1664915400@8157.mytreatmentmanager.com
SUMMARY:Council Meeting
DESCRIPTION:Council General Membership Meeting in the Upper Room dining hall.
URL:https://8157.mytreatmentmanager.com/event/council-meeting-2022-10/
LOCATION:Holy Spirit Catholic Church\, 1111 W Danieldale Rd\, Duncanville\, TX\, 75137\, United States
CATEGORIES:Council Activities,Meetings
END:VEVENT
BEGIN:VEVENT
DTSTART;TZID=America/Chicago:20220920T190000
DTEND;TZID=America/Chicago:20220920T200000
DTSTAMP:20260425T130052
CREATED:20220217T161230Z
LAST-MODIFIED:20220217T161232Z
UID:26549-1663700400-1663704000@8157.mytreatmentmanager.com
SUMMARY:Officers\, Directors & Committees Meeting
DESCRIPTION:We’re meeting in person in the Community Center Building in Room #221.
URL:https://8157.mytreatmentmanager.com/event/officers-directors-meeting-2022-09/
LOCATION:Holy Spirit Catholic Church\, 1111 W Danieldale Rd\, Duncanville\, TX\, 75137\, United States
CATEGORIES:Council Activities,Meetings
END:VEVENT
BEGIN:VEVENT
DTSTART;TZID=America/Chicago:20220906T190000
DTEND;TZID=America/Chicago:20220906T203000
DTSTAMP:20260425T130052
CREATED:20220217T155708Z
LAST-MODIFIED:20220217T155730Z
UID:26522-1662490800-1662496200@8157.mytreatmentmanager.com
SUMMARY:Council Meeting
DESCRIPTION:Council General Membership Meeting in the Upper Room dining hall.
URL:https://8157.mytreatmentmanager.com/event/council-meeting-2022-09/
LOCATION:Holy Spirit Catholic Church\, 1111 W Danieldale Rd\, Duncanville\, TX\, 75137\, United States
CATEGORIES:Council Activities,Meetings
END:VEVENT
BEGIN:VEVENT
DTSTART;TZID=America/Chicago:20220905T000000
DTEND;TZID=America/Chicago:20220905T235900
DTSTAMP:20260425T130052
CREATED:20220217T201807Z
LAST-MODIFIED:20220217T201808Z
UID:26631-1662336000-1662422340@8157.mytreatmentmanager.com
SUMMARY:Labor Day
DESCRIPTION:
URL:https://8157.mytreatmentmanager.com/event/labor-day-2022/
LOCATION:TX
CATEGORIES:US Holidays & Observances
END:VEVENT
BEGIN:VEVENT
DTSTART;TZID=America/Chicago:20220816T190000
DTEND;TZID=America/Chicago:20220816T200000
DTSTAMP:20260425T130052
CREATED:20220217T161143Z
LAST-MODIFIED:20220217T161311Z
UID:26547-1660676400-1660680000@8157.mytreatmentmanager.com
SUMMARY:Officers\, Directors & Committees Meeting
DESCRIPTION:We’re meeting in person in the Community Center Building in Room #221.
URL:https://8157.mytreatmentmanager.com/event/officers-directors-meeting-2022-08/
LOCATION:Holy Spirit Catholic Church\, 1111 W Danieldale Rd\, Duncanville\, TX\, 75137\, United States
CATEGORIES:Council Activities,Meetings
END:VEVENT
BEGIN:VEVENT
DTSTART;TZID=America/Chicago:20220815T000000
DTEND;TZID=America/Chicago:20220815T235900
DTSTAMP:20260425T130052
CREATED:20220217T201707Z
LAST-MODIFIED:20220217T201709Z
UID:26629-1660521600-1660607940@8157.mytreatmentmanager.com
SUMMARY:Assumption of the Blessed Virgin Mary
DESCRIPTION:
URL:https://8157.mytreatmentmanager.com/event/assumption-of-the-blessed-virgin-mary-2022/
LOCATION:TX
CATEGORIES:Holy Days
END:VEVENT
END:VCALENDAR