BEGIN:VCALENDAR
VERSION:2.0
PRODID:-//Duncanville Texas Knights of Columbus Council 8157 - ECPv6.11.1//NONSGML v1.0//EN
CALSCALE:GREGORIAN
METHOD:PUBLISH
X-ORIGINAL-URL:https://8157.mytreatmentmanager.com
X-WR-CALDESC:Events for Duncanville Texas Knights of Columbus Council 8157
REFRESH-INTERVAL;VALUE=DURATION:PT1H
X-Robots-Tag:noindex
X-PUBLISHED-TTL:PT1H
BEGIN:VTIMEZONE
TZID:America/Chicago
BEGIN:DAYLIGHT
TZOFFSETFROM:-0600
TZOFFSETTO:-0500
TZNAME:CDT
DTSTART:20240310T080000
END:DAYLIGHT
BEGIN:STANDARD
TZOFFSETFROM:-0500
TZOFFSETTO:-0600
TZNAME:CST
DTSTART:20241103T070000
END:STANDARD
END:VTIMEZONE
BEGIN:VEVENT
DTSTART;TZID=America/Chicago:20241008T183000
DTEND;TZID=America/Chicago:20241008T200000
DTSTAMP:20260421T060541
CREATED:20240122T015113Z
LAST-MODIFIED:20240124T150150Z
UID:30144-1728412200-1728417600@8157.mytreatmentmanager.com
SUMMARY:Degree Ceremony
DESCRIPTION:Charily\, Unity\, and Fraternity exemplification.  Candidates arrive at 6:30pm – ceremony starts at 7pm
URL:https://8157.mytreatmentmanager.com/event/degree-events-2-2-2-2-2-2-2-2/
LOCATION:Holy Spirit Catholic Church\, 1111 W Danieldale Rd\, Duncanville\, TX\, 75137\, United States
CATEGORIES:Degree events
ORGANIZER;CN="Tom Greco":MAILTO:cmry@sbcglobal.net
END:VEVENT
BEGIN:VEVENT
DTSTART;TZID=America/Chicago:20241001T190000
DTEND;TZID=America/Chicago:20241001T203000
DTSTAMP:20260421T060541
CREATED:20240121T181630Z
LAST-MODIFIED:20240121T181633Z
UID:30032-1727809200-1727814600@8157.mytreatmentmanager.com
SUMMARY:Council Meeting
DESCRIPTION:Find out’s happened and what’s gonna happen at the regular business meeting.  A light meal is served at 7pm with the meeting starting at 7:30pm.  All current paid up Knights are asked to attend
URL:https://8157.mytreatmentmanager.com/event/business-meeting-2-2-2-2-2-2/
LOCATION:Holy Spirit Catholic Church\, 1111 W Danieldale Rd\, Duncanville\, TX\, 75137\, United States
CATEGORIES:Meetings
ORGANIZER;CN="Mike Fitzgerald":MAILTO:5mfitzgerald0@gmail.com
END:VEVENT
BEGIN:VEVENT
DTSTART;TZID=America/Chicago:20240929T070000
DTEND;TZID=America/Chicago:20240929T130000
DTSTAMP:20260421T060541
CREATED:20240808T182449Z
LAST-MODIFIED:20240808T183037Z
UID:31293-1727593200-1727614800@8157.mytreatmentmanager.com
SUMMARY:Parish Breakfast
DESCRIPTION:Knights will be cooking and serving eggs\, bacon\, hash browns\, biscuit with gravy\, fruit and drinks at no charge (donations only). Serving time in from 8:30am until noon. Cooking and set-up begins at 7am.
URL:https://8157.mytreatmentmanager.com/event/parish-breakfast-9292024/
LOCATION:Holy Spirit Catholic Church\, 1111 W Danieldale Rd\, Duncanville\, TX\, 75137\, United States
ORGANIZER;CN="David Ybarra":MAILTO:dvralphy@att.net
END:VEVENT
BEGIN:VEVENT
DTSTART;TZID=America/Chicago:20240917T190000
DTEND;TZID=America/Chicago:20240917T200000
DTSTAMP:20260421T060541
CREATED:20240121T180400Z
LAST-MODIFIED:20240522T133340Z
UID:30021-1726599600-1726603200@8157.mytreatmentmanager.com
SUMMARY:Officer's and Directors Meeting
DESCRIPTION:
URL:https://8157.mytreatmentmanager.com/event/officers-and-directors-meeting-3-2-2-2-2-2/
LOCATION:Holy Spirit Catholic Church\, 1111 W Danieldale Rd\, Duncanville\, TX\, 75137\, United States
CATEGORIES:Meetings
ORGANIZER;CN="Mike Fitzgerald":MAILTO:5mfitzgerald0@gmail.com
END:VEVENT
BEGIN:VEVENT
DTSTART;TZID=America/Chicago:20240912T193000
DTEND;TZID=America/Chicago:20240912T203000
DTSTAMP:20260421T060541
CREATED:20240121T183042Z
LAST-MODIFIED:20240123T194401Z
UID:30045-1726169400-1726173000@8157.mytreatmentmanager.com
SUMMARY:4th Degree meeting
DESCRIPTION:The fourth degree of the Mgr. James F Burnes Assembly 2799 meet at Holy Spirit Catholic Church Community Center in Room 221 to discuss and plan events.
URL:https://8157.mytreatmentmanager.com/event/4th-degree-meeting-2-2-2-3-2-2/
LOCATION:Holy Spirit Catholic Church\, 1111 W Danieldale Rd\, Duncanville\, TX\, 75137\, United States
CATEGORIES:4th Degree,Meetings
END:VEVENT
BEGIN:VEVENT
DTSTART;TZID=America/Chicago:20240910T183000
DTEND;TZID=America/Chicago:20240910T200000
DTSTAMP:20260421T060541
CREATED:20240122T015027Z
LAST-MODIFIED:20240124T150217Z
UID:30142-1725993000-1725998400@8157.mytreatmentmanager.com
SUMMARY:Degree Ceremony
DESCRIPTION:Charily\, Unity\, and Fraternity exemplification.  Candidates arrive at 6:30pm – ceremony starts at 7pm
URL:https://8157.mytreatmentmanager.com/event/degree-events-2-2-2-2-2-2-2/
LOCATION:Holy Spirit Catholic Church\, 1111 W Danieldale Rd\, Duncanville\, TX\, 75137\, United States
CATEGORIES:Degree events
ORGANIZER;CN="Tom Greco":MAILTO:cmry@sbcglobal.net
END:VEVENT
BEGIN:VEVENT
DTSTART;TZID=America/Chicago:20240907T080000
DTEND;TZID=America/Chicago:20240907T180000
DTSTAMP:20260421T060541
CREATED:20240809T160958Z
LAST-MODIFIED:20240809T162351Z
UID:31306-1725696000-1725732000@8157.mytreatmentmanager.com
SUMMARY:Special Olympics
DESCRIPTION:Aquatics Special Olympics being held at Northwest ISD Aquatic Center in Ft. Worth located at 1976 Texan Drive\, Ft Worth Texas\, 76247.  Knights present medals to the athletes.  Two shift are available 8am – 1:00pm and 12:30pm until 6:00pm
URL:https://8157.mytreatmentmanager.com/event/special-olympics-972024/
LOCATION:Northwest ISD Aquatic Center\, 1976 Texan Drive\, Ft. Worth\, Texas\, 76247\, United States
ORGANIZER;CN="Phil Coup":MAILTO:philcoup1@gmail.com
END:VEVENT
BEGIN:VEVENT
DTSTART;TZID=America/Chicago:20240903T190000
DTEND;TZID=America/Chicago:20240903T203000
DTSTAMP:20260421T060541
CREATED:20240121T181508Z
LAST-MODIFIED:20240121T181555Z
UID:30029-1725390000-1725395400@8157.mytreatmentmanager.com
SUMMARY:Council Meeting
DESCRIPTION:Find out’s happened and what’s gonna happen at the regular business meeting.  A light meal is served at 7pm with the meeting starting at 7:30pm.  All current paid up Knights are asked to attend
URL:https://8157.mytreatmentmanager.com/event/business-meeting-2-2-2-2-2/
LOCATION:Holy Spirit Catholic Church\, 1111 W Danieldale Rd\, Duncanville\, TX\, 75137\, United States
CATEGORIES:Meetings
ORGANIZER;CN="Mike Fitzgerald":MAILTO:5mfitzgerald0@gmail.com
END:VEVENT
BEGIN:VEVENT
DTSTART;TZID=America/Chicago:20240902T000000
DTEND;TZID=America/Chicago:20240902T235959
DTSTAMP:20260421T060541
CREATED:20240121T165423Z
LAST-MODIFIED:20240123T192245Z
UID:29992-1725235200-1725321599@8157.mytreatmentmanager.com
SUMMARY:Labor Day
DESCRIPTION:
URL:https://8157.mytreatmentmanager.com/event/labor-day-2/
CATEGORIES:Holidays
END:VEVENT
BEGIN:VEVENT
DTSTART;TZID=America/Chicago:20240825T070000
DTEND;TZID=America/Chicago:20240825T130000
DTSTAMP:20260421T060541
CREATED:20240808T180738Z
LAST-MODIFIED:20240808T183355Z
UID:31281-1724569200-1724590800@8157.mytreatmentmanager.com
SUMMARY:Parish Breakfast
DESCRIPTION:Knights will be cooking and serving eggs\, bacon\, hash browns\, biscuit with gravy\, fruit and drinks at no charge (donations only). Serving time in from 8:30am until noon. Cooking and set-up begins at 7am.
URL:https://8157.mytreatmentmanager.com/event/parish-breakfast-8252024/
LOCATION:Holy Spirit Catholic Church\, 1111 W Danieldale Rd\, Duncanville\, TX\, 75137\, United States
ORGANIZER;CN="David Ybarra":MAILTO:dvralphy@att.net
END:VEVENT
BEGIN:VEVENT
DTSTART;TZID=America/Chicago:20240820T190000
DTEND;TZID=America/Chicago:20240820T200000
DTSTAMP:20260421T060541
CREATED:20240121T180258Z
LAST-MODIFIED:20240522T133553Z
UID:30019-1724180400-1724184000@8157.mytreatmentmanager.com
SUMMARY:Officer's and Directors Meeting
DESCRIPTION:
URL:https://8157.mytreatmentmanager.com/event/officers-and-directors-meeting-3-2-2-2-2/
LOCATION:Holy Spirit Catholic Church\, 1111 W Danieldale Rd\, Duncanville\, TX\, 75137\, United States
CATEGORIES:Meetings
ORGANIZER;CN="Mike Fitzgerald":MAILTO:5mfitzgerald0@gmail.com
END:VEVENT
BEGIN:VEVENT
DTSTART;TZID=America/Chicago:20240813T183000
DTEND;TZID=America/Chicago:20240813T200000
DTSTAMP:20260421T060541
CREATED:20240122T014948Z
LAST-MODIFIED:20240124T150249Z
UID:30140-1723573800-1723579200@8157.mytreatmentmanager.com
SUMMARY:Degree Ceremony
DESCRIPTION:Charily\, Unity\, and Fraternity exemplification.  Candidates arrive at 6:30pm – ceremony starts at 7pm
URL:https://8157.mytreatmentmanager.com/event/degree-events-2-2-2-2-2-2/
LOCATION:Holy Spirit Catholic Church\, 1111 W Danieldale Rd\, Duncanville\, TX\, 75137\, United States
CATEGORIES:Degree events
ORGANIZER;CN="Tom Greco":MAILTO:cmry@sbcglobal.net
END:VEVENT
BEGIN:VEVENT
DTSTART;TZID=America/Chicago:20240808T193000
DTEND;TZID=America/Chicago:20240808T203000
DTSTAMP:20260421T060541
CREATED:20240121T000453Z
LAST-MODIFIED:20240123T194417Z
UID:29957-1723145400-1723149000@8157.mytreatmentmanager.com
SUMMARY:4th Degree meeting
DESCRIPTION:The fourth degree of the Mgr. James F Burnes Assembly 2799 meet at Holy Spirit Catholic Church Community Center in Room 221 to discuss and plan events.
URL:https://8157.mytreatmentmanager.com/event/4th-degree-meeting-2-2-2-3-2/
LOCATION:Holy Spirit Catholic Church\, 1111 W Danieldale Rd\, Duncanville\, TX\, 75137\, United States
CATEGORIES:4th Degree,Meetings
END:VEVENT
BEGIN:VEVENT
DTSTART;TZID=America/Chicago:20240806T190000
DTEND;TZID=America/Chicago:20240806T203000
DTSTAMP:20260421T060541
CREATED:20240120T234952Z
LAST-MODIFIED:20240121T173141Z
UID:29941-1722970800-1722976200@8157.mytreatmentmanager.com
SUMMARY:Business Meeting
DESCRIPTION:Find out’s happened and what’s gonna happen at the regular business meeting.  A light meal is served at 7pm with the meeting starting at 7:30pm.  All current paid up Knights are asked to attend
URL:https://8157.mytreatmentmanager.com/event/business-meeting-2-2-2-2/
LOCATION:Holy Spirit Catholic Church\, 1111 W Danieldale Rd\, Duncanville\, TX\, 75137\, United States
CATEGORIES:Meetings
ORGANIZER;CN="Mike Fitzgerald":MAILTO:5mfitzgerald0@gmail.com
END:VEVENT
BEGIN:VEVENT
DTSTART;TZID=America/Chicago:20240716T190000
DTEND;TZID=America/Chicago:20240716T200000
DTSTAMP:20260421T060541
CREATED:20240120T234509Z
LAST-MODIFIED:20240522T133651Z
UID:29935-1721156400-1721160000@8157.mytreatmentmanager.com
SUMMARY:Officer's and Directors Meeting
DESCRIPTION:
URL:https://8157.mytreatmentmanager.com/event/officers-and-directors-meeting-3-2-2-2/
LOCATION:Holy Spirit Catholic Church\, 1111 W Danieldale Rd\, Duncanville\, TX\, 75137\, United States
CATEGORIES:Meetings
ORGANIZER;CN="Mike Fitzgerald":MAILTO:5mfitzgerald0@gmail.com
END:VEVENT
BEGIN:VEVENT
DTSTART;TZID=America/Chicago:20240711T193000
DTEND;TZID=America/Chicago:20240711T203000
DTSTAMP:20260421T060541
CREATED:20240121T000403Z
LAST-MODIFIED:20240123T194433Z
UID:29955-1720726200-1720729800@8157.mytreatmentmanager.com
SUMMARY:4th Degree meeting
DESCRIPTION:The fourth degree of the Mgr. James F Burnes Assembly 2799 meet at Holy Spirit Catholic Church Community Center in Room 221 to discuss and plan events.
URL:https://8157.mytreatmentmanager.com/event/4th-degree-meeting-2-2-2-3/
LOCATION:Holy Spirit Catholic Church\, 1111 W Danieldale Rd\, Duncanville\, TX\, 75137\, United States
CATEGORIES:4th Degree,Meetings
END:VEVENT
BEGIN:VEVENT
DTSTART;TZID=America/Chicago:20240709T183000
DTEND;TZID=America/Chicago:20240709T200000
DTSTAMP:20260421T060541
CREATED:20240122T014905Z
LAST-MODIFIED:20240124T150321Z
UID:30138-1720549800-1720555200@8157.mytreatmentmanager.com
SUMMARY:Degree Ceremony
DESCRIPTION:Charily\, Unity\, and Fraternity exemplification.  Candidates arrive at 6:30pm – ceremony starts at 7pm
URL:https://8157.mytreatmentmanager.com/event/degree-events-2-2-2-2-2/
LOCATION:Holy Spirit Catholic Church\, 1111 W Danieldale Rd\, Duncanville\, TX\, 75137\, United States
CATEGORIES:Degree events
ORGANIZER;CN="Tom Greco":MAILTO:cmry@sbcglobal.net
END:VEVENT
BEGIN:VEVENT
DTSTART;TZID=America/Chicago:20240704T000000
DTEND;TZID=America/Chicago:20240704T235959
DTSTAMP:20260421T060541
CREATED:20240123T191722Z
LAST-MODIFIED:20240123T191745Z
UID:30276-1720051200-1720137599@8157.mytreatmentmanager.com
SUMMARY:Independence Day
DESCRIPTION:Today we celebrate the birth of America
URL:https://8157.mytreatmentmanager.com/event/independence-day-2/
CATEGORIES:Holidays
END:VEVENT
BEGIN:VEVENT
DTSTART;TZID=America/Chicago:20240702T190000
DTEND;TZID=America/Chicago:20240702T203000
DTSTAMP:20260421T060541
CREATED:20240120T234649Z
LAST-MODIFIED:20240121T173546Z
UID:29939-1719946800-1719952200@8157.mytreatmentmanager.com
SUMMARY:Business Meeting
DESCRIPTION:Find out’s happened and what’s gonna happen at the regular business meeting.  A light meal is served at 7pm with the meeting starting at 7:30pm.  All current paid up Knights are asked to attend \n\n\n\n\n\nNovember 2019 Meeting
URL:https://8157.mytreatmentmanager.com/event/business-meeting-2-2-2/
LOCATION:Holy Spirit Catholic Church\, 1111 W Danieldale Rd\, Duncanville\, TX\, 75137\, United States
CATEGORIES:Meetings
ORGANIZER;CN="Mike Fitzgerald":MAILTO:5mfitzgerald0@gmail.com
END:VEVENT
BEGIN:VEVENT
DTSTART;TZID=America/Chicago:20240701T110000
DTEND;TZID=America/Chicago:20240701T130000
DTSTAMP:20260421T060541
CREATED:20240627T150929Z
LAST-MODIFIED:20240627T150931Z
UID:31076-1719831600-1719838800@8157.mytreatmentmanager.com
SUMMARY:Funeral Mass for SK Art Senato
DESCRIPTION:Funeral Mass for Sir Knight Art Senato.
URL:https://8157.mytreatmentmanager.com/event/visitation-2/
LOCATION:St. Jude Catholic Church\, 500 E Dallas St\, Mansfield\, TX\, 76063\, United States
CATEGORIES:4th Degree,In Memoriam
ATTACH;FMTTYPE=image/png:https://8157.mytreatmentmanager.com/wp-content/uploads/2024/04/kofc_r_hz_cmyk_pos.png
END:VEVENT
BEGIN:VEVENT
DTSTART;TZID=America/Chicago:20240630T140000
DTEND;TZID=America/Chicago:20240630T160000
DTSTAMP:20260421T060541
CREATED:20240626T023931Z
LAST-MODIFIED:20240626T131414Z
UID:31052-1719756000-1719763200@8157.mytreatmentmanager.com
SUMMARY:VISITATION for SK Art Senato
DESCRIPTION:Visitation with the family of Sir Knight Art Senato.
URL:https://8157.mytreatmentmanager.com/event/visitation/
LOCATION:Moore Funeral Home & Memorial Gardens\, 1219 N Davis Dr\, Arlington\, 76012\, United States
CATEGORIES:4th Degree,In Memoriam
ATTACH;FMTTYPE=image/png:https://8157.mytreatmentmanager.com/wp-content/uploads/2024/04/kofc_r_hz_cmyk_pos.png
END:VEVENT
BEGIN:VEVENT
DTSTART;TZID=America/Chicago:20240629T170000
DTEND;TZID=America/Chicago:20240629T170000
DTSTAMP:20260421T060541
CREATED:20240508T201608Z
LAST-MODIFIED:20240508T201611Z
UID:30868-1719680400-1719680400@8157.mytreatmentmanager.com
SUMMARY:Corporate Communion Officers Installation
DESCRIPTION:Corporate Communion and Officers Installation
URL:https://8157.mytreatmentmanager.com/event/corporate-communion-officers-installation-2/
LOCATION:Holy Spirit Catholic Church\, 1111 W Danieldale Rd\, Duncanville\, TX\, 75137\, United States
CATEGORIES:Church Activities,Council Activities
ATTACH;FMTTYPE=image/png:https://8157.mytreatmentmanager.com/wp-content/uploads/2024/04/kofc_r_hz_cmyk_pos.png
ORGANIZER;CN="Mike Fitzgerald":MAILTO:5mfitzgerald0@gmail.com
END:VEVENT
BEGIN:VEVENT
DTSTART;TZID=America/Chicago:20240629T000000
DTEND;TZID=America/Chicago:20240630T235959
DTSTAMP:20260421T060541
CREATED:20240529T123643Z
LAST-MODIFIED:20240529T123649Z
UID:30954-1719619200-1719791999@8157.mytreatmentmanager.com
SUMMARY:Wheelchair Drive
DESCRIPTION:Council 8157 will hold a Wheelchair Drive this weekend\, there will be pulpit announcements at every Mass starting with the Saturday 5 PM Vigil Mass and all Masses on Sunday.
URL:https://8157.mytreatmentmanager.com/event/wheelchair-drive/
LOCATION:Holy Spirit Catholic Church\, 1111 W Danieldale Rd\, Duncanville\, TX\, 75137\, United States
CATEGORIES:Church Activities,Council Activities
ATTACH;FMTTYPE=image/png:https://8157.mytreatmentmanager.com/wp-content/uploads/2024/04/kofc_r_hz_cmyk_pos.png
ORGANIZER;CN="Mike Fitzgerald":MAILTO:5mfitzgerald0@gmail.com
END:VEVENT
BEGIN:VEVENT
DTSTART;TZID=America/Chicago:20240623T080000
DTEND;TZID=America/Chicago:20240623T150000
DTSTAMP:20260421T060541
CREATED:20240508T132626Z
LAST-MODIFIED:20240508T132628Z
UID:30842-1719129600-1719154800@8157.mytreatmentmanager.com
SUMMARY:Blood Drive
DESCRIPTION:Carter Blood Care’s mobile unit will in the church parking lot from 8am until 3pm.
URL:https://8157.mytreatmentmanager.com/event/blood-drive-3/
LOCATION:Holy Spirit Catholic Church\, 1111 W Danieldale Rd\, Duncanville\, TX\, 75137\, United States
END:VEVENT
BEGIN:VEVENT
DTSTART;TZID=America/Chicago:20240621T070000
DTEND;TZID=America/Chicago:20240626T210000
DTSTAMP:20260421T060541
CREATED:20240522T134817Z
LAST-MODIFIED:20240522T134823Z
UID:30926-1718953200-1719435600@8157.mytreatmentmanager.com
SUMMARY:USSSA World Series
DESCRIPTION:Little League World series at Valley Ridge Park in Cedar Hill.  This 6 day event will require many Knights starting at 7am each morning.
URL:https://8157.mytreatmentmanager.com/event/usssa-world-series/
LOCATION:Valley Ridge Park Cedar Hill Texas\, 2850 Park Ridge Dr\, Cedar Hill\, TX\, 75104\, United States
ORGANIZER;CN="Allen Reitmeier":MAILTO:alreitmeier@gmail.com
END:VEVENT
BEGIN:VEVENT
DTSTART;TZID=America/Chicago:20240618T190000
DTEND;TZID=America/Chicago:20240618T200000
DTSTAMP:20260421T060541
CREATED:20240121T000259Z
LAST-MODIFIED:20240522T133749Z
UID:29953-1718737200-1718740800@8157.mytreatmentmanager.com
SUMMARY:Officer's and Directors Meeting
DESCRIPTION:
URL:https://8157.mytreatmentmanager.com/event/officers-and-directors-meeting-3-2-2/
LOCATION:Holy Spirit Catholic Church\, 1111 W Danieldale Rd\, Duncanville\, TX\, 75137\, United States
CATEGORIES:Meetings
ORGANIZER;CN="Mike Fitzgerald":MAILTO:5mfitzgerald0@gmail.com
END:VEVENT
BEGIN:VEVENT
DTSTART;TZID=America/Chicago:20240616T000000
DTEND;TZID=America/Chicago:20240616T235959
DTSTAMP:20260421T060541
CREATED:20240121T165319Z
LAST-MODIFIED:20240121T173629Z
UID:29990-1718496000-1718582399@8157.mytreatmentmanager.com
SUMMARY:Father's Day
DESCRIPTION:
URL:https://8157.mytreatmentmanager.com/event/fathers-day-2/
CATEGORIES:US Holidays & Observances
END:VEVENT
BEGIN:VEVENT
DTSTART;TZID=America/Chicago:20240615T080000
DTEND;TZID=America/Chicago:20240615T170000
DTSTAMP:20260421T060541
CREATED:20240508T132754Z
LAST-MODIFIED:20240508T132756Z
UID:30847-1718438400-1718470800@8157.mytreatmentmanager.com
SUMMARY:4th Degree Exemplification
DESCRIPTION:
URL:https://8157.mytreatmentmanager.com/event/4th-degree-exemplification/
END:VEVENT
BEGIN:VEVENT
DTSTART;TZID=America/Chicago:20240613T193000
DTEND;TZID=America/Chicago:20240613T203000
DTSTAMP:20260421T060541
CREATED:20240120T235937Z
LAST-MODIFIED:20240123T194446Z
UID:29949-1718307000-1718310600@8157.mytreatmentmanager.com
SUMMARY:4th Degree meeting
DESCRIPTION:The fourth degree of the Mgr. James F Burnes Assembly 2799 meet at Holy Spirit Catholic Church Community Center in Room 221 to discuss and plan events.
URL:https://8157.mytreatmentmanager.com/event/4th-degree-meeting-2-2-2-2/
LOCATION:Holy Spirit Catholic Church\, 1111 W Danieldale Rd\, Duncanville\, TX\, 75137\, United States
CATEGORIES:4th Degree,Meetings
END:VEVENT
BEGIN:VEVENT
DTSTART;TZID=America/Chicago:20240611T183000
DTEND;TZID=America/Chicago:20240611T200000
DTSTAMP:20260421T060541
CREATED:20240122T014014Z
LAST-MODIFIED:20240124T150350Z
UID:30135-1718130600-1718136000@8157.mytreatmentmanager.com
SUMMARY:Degree Ceremony
DESCRIPTION:Charily\, Unity\, and Fraternity exemplification.  Candidates arrive at 6:30pm – ceremony starts at 7pm
URL:https://8157.mytreatmentmanager.com/event/degree-events-2-2-2-2/
LOCATION:Holy Spirit Catholic Church\, 1111 W Danieldale Rd\, Duncanville\, TX\, 75137\, United States
CATEGORIES:Degree events
ORGANIZER;CN="Tom Greco":MAILTO:cmry@sbcglobal.net
END:VEVENT
END:VCALENDAR