BEGIN:VCALENDAR
VERSION:2.0
PRODID:-//Duncanville Texas Knights of Columbus Council 8157 - ECPv6.11.1//NONSGML v1.0//EN
CALSCALE:GREGORIAN
METHOD:PUBLISH
X-ORIGINAL-URL:https://8157.mytreatmentmanager.com
X-WR-CALDESC:Events for Duncanville Texas Knights of Columbus Council 8157
REFRESH-INTERVAL;VALUE=DURATION:PT1H
X-Robots-Tag:noindex
X-PUBLISHED-TTL:PT1H
BEGIN:VTIMEZONE
TZID:America/Chicago
BEGIN:DAYLIGHT
TZOFFSETFROM:-0600
TZOFFSETTO:-0500
TZNAME:CDT
DTSTART:20240310T080000
END:DAYLIGHT
BEGIN:STANDARD
TZOFFSETFROM:-0500
TZOFFSETTO:-0600
TZNAME:CST
DTSTART:20241103T070000
END:STANDARD
END:VTIMEZONE
BEGIN:VEVENT
DTSTART;TZID=America/Chicago:20240402T190000
DTEND;TZID=America/Chicago:20240402T203000
DTSTAMP:20260423T053238
CREATED:20240120T232555Z
LAST-MODIFIED:20240121T173847Z
UID:29917-1712084400-1712089800@8157.mytreatmentmanager.com
SUMMARY:Business Meeting
DESCRIPTION:Find out’s happened and what’s gonna happen at the regular business meeting.  A light meal is served at 7pm with the meeting starting at 7:30pm.  All current paid up Knights are asked to attend
URL:https://8157.mytreatmentmanager.com/event/business-meeting-2-4/
LOCATION:Holy Spirit Catholic Church\, 1111 W Danieldale Rd\, Duncanville\, TX\, 75137\, United States
CATEGORIES:Meetings
ORGANIZER;CN="Mike Fitzgerald":MAILTO:5mfitzgerald0@gmail.com
END:VEVENT
BEGIN:VEVENT
DTSTART;TZID=America/Chicago:20240331T000000
DTEND;TZID=America/Chicago:20240331T235959
DTSTAMP:20260423T053238
CREATED:20240121T001703Z
LAST-MODIFIED:20240123T193353Z
UID:29971-1711843200-1711929599@8157.mytreatmentmanager.com
SUMMARY:Easter Sunday
DESCRIPTION:“He Has Risen!  Alleluia!”
URL:https://8157.mytreatmentmanager.com/event/easter-sunday-4/
LOCATION:TX
CATEGORIES:Holy Days
END:VEVENT
BEGIN:VEVENT
DTSTART;TZID=America/Chicago:20240329T000000
DTEND;TZID=America/Chicago:20240329T235959
DTSTAMP:20260423T053238
CREATED:20240121T001357Z
LAST-MODIFIED:20240121T173909Z
UID:29969-1711670400-1711756799@8157.mytreatmentmanager.com
SUMMARY:Good Friday
DESCRIPTION:
URL:https://8157.mytreatmentmanager.com/event/good-friday/
LOCATION:TX
CATEGORIES:Holy Days
END:VEVENT
BEGIN:VEVENT
DTSTART;TZID=America/Chicago:20240323T180000
DTEND;TZID=America/Chicago:20240323T210000
DTSTAMP:20260423T053238
CREATED:20240207T191152Z
LAST-MODIFIED:20240207T191252Z
UID:30489-1711216800-1711227600@8157.mytreatmentmanager.com
SUMMARY:Pro-Life Dinner
DESCRIPTION:Check back for more details
URL:https://8157.mytreatmentmanager.com/event/pro-life-dinner/
LOCATION:TX
CATEGORIES:Council Activities
END:VEVENT
BEGIN:VEVENT
DTSTART;TZID=America/Chicago:20240322T130000
DTEND;TZID=America/Chicago:20240322T200000
DTSTAMP:20260423T053238
CREATED:20240121T174916Z
LAST-MODIFIED:20240127T173341Z
UID:30012-1711112400-1711137600@8157.mytreatmentmanager.com
SUMMARY:Lenten Fish Fry
DESCRIPTION:The weekly fish fry during Lent at the Community Center Come early (1pm) to help set up; come any time – there always a job to do.  Serving starts at 5pm and ends around 7pm.  Clean up after that.
URL:https://8157.mytreatmentmanager.com/event/lenten-fish-fry-2-2-2/
LOCATION:Holy Spirit Catholic Church\, 1111 W Danieldale Rd\, Duncanville\, TX\, 75137\, United States
CATEGORIES:Church Activities
ORGANIZER;CN="James Smith":MAILTO:jcjasmith@hotmail.com
END:VEVENT
BEGIN:VEVENT
DTSTART;TZID=America/Chicago:20240319T193000
DTEND;TZID=America/Chicago:20240319T203000
DTSTAMP:20260423T053238
CREATED:20240120T233645Z
LAST-MODIFIED:20240121T173922Z
UID:29924-1710876600-1710880200@8157.mytreatmentmanager.com
SUMMARY:Officer's and Directors Meeting
DESCRIPTION:
URL:https://8157.mytreatmentmanager.com/event/officers-and-directors-meeting-2/
LOCATION:Holy Spirit Catholic Church\, 1111 W Danieldale Rd\, Duncanville\, TX\, 75137\, United States
CATEGORIES:Meetings
ORGANIZER;CN="Mike Fitzgerald":MAILTO:5mfitzgerald0@gmail.com
END:VEVENT
BEGIN:VEVENT
DTSTART;TZID=America/Chicago:20240317T000000
DTEND;TZID=America/Chicago:20240317T235959
DTSTAMP:20260423T053238
CREATED:20240121T001300Z
LAST-MODIFIED:20240121T173935Z
UID:29967-1710633600-1710719999@8157.mytreatmentmanager.com
SUMMARY:St. Patrick's Day
DESCRIPTION:
URL:https://8157.mytreatmentmanager.com/event/st-patricks-day-2/
LOCATION:TX
CATEGORIES:US Holidays & Observances
END:VEVENT
BEGIN:VEVENT
DTSTART;TZID=America/Chicago:20240316T070000
DTEND;TZID=America/Chicago:20240316T170000
DTSTAMP:20260423T053238
CREATED:20240214T001157Z
LAST-MODIFIED:20240214T001503Z
UID:30525-1710572400-1710608400@8157.mytreatmentmanager.com
SUMMARY:Baseball Begins
DESCRIPTION:The little league baseball season begin on this day at Valley Ridge Park with opening ceremonies around 10am and games starting at noon.  If Miguel Hernandez contacts you to help at the concession stand\, please respond to his summons.  Games continue throughout the spring and early summer.
URL:https://8157.mytreatmentmanager.com/event/baseball-begins/
LOCATION:Valley Ridge Park Cedar Hill Texas\, 2850 Park Ridge Dr\, Cedar Hill\, TX\, 75104\, United States
CATEGORIES:Community Activities,Council Activities
ATTACH;FMTTYPE=image/jpeg:https://8157.mytreatmentmanager.com/wp-content/uploads/2023/09/baseball-scaled.jpg
ORGANIZER;CN="James Smith":MAILTO:jcjasmith@hotmail.com
END:VEVENT
BEGIN:VEVENT
DTSTART;TZID=America/Chicago:20240315T130000
DTEND;TZID=America/Chicago:20240315T200000
DTSTAMP:20260423T053238
CREATED:20240121T002829Z
LAST-MODIFIED:20240121T175224Z
UID:29978-1710507600-1710532800@8157.mytreatmentmanager.com
SUMMARY:Lenten Fish Fry
DESCRIPTION:The weekly fish fry during Lent at the Community Center Come early (1pm) to help set up; come any time – there always a job to do.  Serving starts at 5pm and ends around 7pm.  Clean up after that.
URL:https://8157.mytreatmentmanager.com/event/lenten-fish-fry-2-2/
LOCATION:Holy Spirit Catholic Church\, 1111 W Danieldale Rd\, Duncanville\, TX\, 75137\, United States
CATEGORIES:Church Activities
ORGANIZER;CN="James Smith":MAILTO:jcjasmith@hotmail.com
END:VEVENT
BEGIN:VEVENT
DTSTART;TZID=America/Chicago:20240314T193000
DTEND;TZID=America/Chicago:20240314T203000
DTSTAMP:20260423T053238
CREATED:20240120T235525Z
LAST-MODIFIED:20240123T194544Z
UID:29943-1710444600-1710448200@8157.mytreatmentmanager.com
SUMMARY:4th Degree meeting
DESCRIPTION:The fourth degree of the Mgr. James F Burnes Assembly 2799 meet at Holy Spirit Catholic Church Community Center in Room 221 to discuss and plan events.
URL:https://8157.mytreatmentmanager.com/event/4th-degree-meeting-2/
LOCATION:Holy Spirit Catholic Church\, 1111 W Danieldale Rd\, Duncanville\, TX\, 75137\, United States
CATEGORIES:4th Degree,Meetings
END:VEVENT
BEGIN:VEVENT
DTSTART;TZID=America/Chicago:20240310T000000
DTEND;TZID=America/Chicago:20240310T235959
DTSTAMP:20260423T053238
CREATED:20240121T001205Z
LAST-MODIFIED:20240121T174014Z
UID:29965-1710028800-1710115199@8157.mytreatmentmanager.com
SUMMARY:Daylight Savings Time Begins
DESCRIPTION:
URL:https://8157.mytreatmentmanager.com/event/daylight-savings-time-begins/
LOCATION:TX
CATEGORIES:US Holidays & Observances
END:VEVENT
BEGIN:VEVENT
DTSTART;TZID=America/Chicago:20240308T130000
DTEND;TZID=America/Chicago:20240308T200000
DTSTAMP:20260423T053238
CREATED:20240121T002537Z
LAST-MODIFIED:20240121T174026Z
UID:29975-1709902800-1709928000@8157.mytreatmentmanager.com
SUMMARY:Lenten Fish Fry
DESCRIPTION:Brothers meet at the Community Center to support the Church during Lent.  Come at 1pm to set up; 3:30pm to prepare and cook; 4:30pm to serve and 7pm to clean up
URL:https://8157.mytreatmentmanager.com/event/lenten-fish-fry-3-2/
LOCATION:Holy Spirit Catholic Church\, 1111 W Danieldale Rd\, Duncanville\, TX\, 75137\, United States
CATEGORIES:Church Activities
END:VEVENT
BEGIN:VEVENT
DTSTART;TZID=America/Chicago:20240305T190000
DTEND;TZID=America/Chicago:20240305T203000
DTSTAMP:20260423T053238
CREATED:20240120T214009Z
LAST-MODIFIED:20240121T174050Z
UID:29892-1709665200-1709670600@8157.mytreatmentmanager.com
SUMMARY:Business Meeting
DESCRIPTION:Find out’s happened and what’s gonna happen at the regular business meeting.  A light meal is served at 7pm with the meeting starting at 7:30pm.  All current paid up Knights are asked to attend
URL:https://8157.mytreatmentmanager.com/event/business-meeting-2/
LOCATION:Holy Spirit Catholic Church\, 1111 W Danieldale Rd\, Duncanville\, TX\, 75137\, United States
CATEGORIES:Meetings
ORGANIZER;CN="Mike Fitzgerald":MAILTO:5mfitzgerald0@gmail.com
END:VEVENT
BEGIN:VEVENT
DTSTART;TZID=America/Chicago:20240303T060000
DTEND;TZID=America/Chicago:20240303T120000
DTSTAMP:20260423T053239
CREATED:20240302T220650Z
LAST-MODIFIED:20240302T220821Z
UID:30609-1709445600-1709467200@8157.mytreatmentmanager.com
SUMMARY:Parish Breakfast
DESCRIPTION:Come join your  brother Knights in preparing and serving breakfast for the parish.  Cooking starts at 6am and serving begins at 8am.
URL:https://8157.mytreatmentmanager.com/event/parish-breakfast-2/
LOCATION:Holy Spirit Catholic Church\, 1111 W Danieldale Rd\, Duncanville\, TX\, 75137\, United States
CATEGORIES:Church Activities
ORGANIZER;CN="James Smith":MAILTO:jcjasmith@hotmail.com
END:VEVENT
BEGIN:VEVENT
DTSTART;TZID=America/Chicago:20240301T130000
DTEND;TZID=America/Chicago:20240301T200000
DTSTAMP:20260423T053239
CREATED:20240120T201447Z
LAST-MODIFIED:20240121T175448Z
UID:29875-1709298000-1709323200@8157.mytreatmentmanager.com
SUMMARY:Lenten Fish Fry
DESCRIPTION:Brothers meet at the Community Center to support the Church during Lent.  Come at 1pm to set up; 3:30pm to prepare and cook; 4:30pm to serve and 7pm to clean up
URL:https://8157.mytreatmentmanager.com/event/lenten-fish-fry-3/
LOCATION:Holy Spirit Catholic Church\, 1111 W Danieldale Rd\, Duncanville\, TX\, 75137\, United States
CATEGORIES:Church Activities
ORGANIZER;CN="James Smith":MAILTO:jcjasmith@hotmail.com
END:VEVENT
BEGIN:VEVENT
DTSTART;TZID=America/Chicago:20240224T080000
DTEND;TZID=America/Chicago:20240224T170000
DTSTAMP:20260423T053239
CREATED:20240120T185851Z
LAST-MODIFIED:20240121T174125Z
UID:29854-1708761600-1708794000@8157.mytreatmentmanager.com
SUMMARY:Fight for Life
DESCRIPTION:The Leadership Team for the North Texas Catholic Men’s Conference is excited to have Jim Caviezel\, star of The Passion of Christ and Sounds of Freedom at St. Jude Catholic Church\, \n\n\n\nAllen\, TX as our featured speaker on February 24th from 8 am to 4 pm.   
URL:https://8157.mytreatmentmanager.com/event/fight-for-life/
LOCATION:TX
CATEGORIES:Pro Life
END:VEVENT
BEGIN:VEVENT
DTSTART;TZID=America/Chicago:20240223T130000
DTEND;TZID=America/Chicago:20240223T200000
DTSTAMP:20260423T053239
CREATED:20240120T195036Z
LAST-MODIFIED:20240121T175610Z
UID:29868-1708693200-1708718400@8157.mytreatmentmanager.com
SUMMARY:Lenten Fish Fry
DESCRIPTION:The weekly fish fry during Lent at the Community Center Come early (1pm) to help set up; come any time – there always a job to do.  Serving starts at 5pm and ends around 7pm.  Clean up after that.
URL:https://8157.mytreatmentmanager.com/event/lenten-fish-fry-2/
LOCATION:Holy Spirit Catholic Church\, 1111 W Danieldale Rd\, Duncanville\, TX\, 75137\, United States
CATEGORIES:Church Activities
ORGANIZER;CN="James Smith":MAILTO:jcjasmith@hotmail.com
END:VEVENT
BEGIN:VEVENT
DTSTART;TZID=America/Chicago:20240220T193000
DTEND;TZID=America/Chicago:20240220T203000
DTSTAMP:20260423T053239
CREATED:20240120T233418Z
LAST-MODIFIED:20240121T174358Z
UID:29922-1708457400-1708461000@8157.mytreatmentmanager.com
SUMMARY:Officer's and Directors Meeting
DESCRIPTION:
URL:https://8157.mytreatmentmanager.com/event/officers-and-directors-meeting/
LOCATION:Holy Spirit Catholic Church\, 1111 W Danieldale Rd\, Duncanville\, TX\, 75137\, United States
CATEGORIES:Meetings
ORGANIZER;CN="Mike Fitzgerald":MAILTO:5mfitzgerald0@gmail.com
END:VEVENT
BEGIN:VEVENT
DTSTART;TZID=America/Chicago:20240219T000000
DTEND;TZID=America/Chicago:20240219T235959
DTSTAMP:20260423T053239
CREATED:20240121T000953Z
LAST-MODIFIED:20240123T190714Z
UID:29959-1708300800-1708387199@8157.mytreatmentmanager.com
SUMMARY:President's Day
DESCRIPTION:
URL:https://8157.mytreatmentmanager.com/event/presidents-day/
LOCATION:TX
CATEGORIES:Holidays
ORGANIZER;CN="Allen Reitmeier":MAILTO:alreitmeier@gmail.com
END:VEVENT
BEGIN:VEVENT
DTSTART;TZID=America/Chicago:20240219T000000
DTEND;TZID=America/Chicago:20240219T235900
DTSTAMP:20260423T053239
CREATED:20231116T145357Z
LAST-MODIFIED:20231116T145400Z
UID:29624-1708300800-1708387140@8157.mytreatmentmanager.com
SUMMARY:Presidents' Day
DESCRIPTION:George Washington’s and Abraham Lincoln’s Birthdays Observed
URL:https://8157.mytreatmentmanager.com/event/george-washington-birthday-2024/
LOCATION:TX
CATEGORIES:US Holidays & Observances
END:VEVENT
BEGIN:VEVENT
DTSTART;TZID=America/Chicago:20240216T130000
DTEND;TZID=America/Chicago:20240216T200000
DTSTAMP:20260423T053239
CREATED:20240120T191455Z
LAST-MODIFIED:20240208T174651Z
UID:29858-1708088400-1708113600@8157.mytreatmentmanager.com
SUMMARY:Lenten Fish Fry
DESCRIPTION:Will you come join your fellow Brother Knights at the annual Lenten fish fry?  Come at 1pm to help set up tables and chairs\, come at 3:30 to commence cooking fish and all the other food to be served; come at 4:30 to help with the serving; come at 7pm to help with the clean up.  The menu this year is Catfish\, French Fries\, Hush Puppies\, Baked Beans\, Salad/Coleslaw\, Lemonade\, and Tea – all for $8.00
URL:https://8157.mytreatmentmanager.com/event/church-activities/
LOCATION:Holy Spirit Catholic Church\, 1111 W Danieldale Rd\, Duncanville\, TX\, 75137\, United States
CATEGORIES:Church Activities
ORGANIZER;CN="James Smith":MAILTO:jcjasmith@hotmail.com
END:VEVENT
BEGIN:VEVENT
DTSTART;TZID=America/Chicago:20240214T000000
DTEND;TZID=America/Chicago:20240214T235959
DTSTAMP:20260423T053239
CREATED:20231116T150517Z
LAST-MODIFIED:20231116T150519Z
UID:29642-1707868800-1707955199@8157.mytreatmentmanager.com
SUMMARY:Valentine's Day
DESCRIPTION:
URL:https://8157.mytreatmentmanager.com/event/valentines-day-2024/
LOCATION:TX
CATEGORIES:US Holidays & Observances
END:VEVENT
BEGIN:VEVENT
DTSTART;TZID=America/Chicago:20240214T000000
DTEND;TZID=America/Chicago:20240214T235900
DTSTAMP:20260423T053239
CREATED:20231116T152354Z
LAST-MODIFIED:20231116T152356Z
UID:29656-1707868800-1707955140@8157.mytreatmentmanager.com
SUMMARY:Ash Wednesday
DESCRIPTION:Start of Lent season.
URL:https://8157.mytreatmentmanager.com/event/ash-wednesday-2024/
LOCATION:TX
CATEGORIES:Holy Days
END:VEVENT
BEGIN:VEVENT
DTSTART;TZID=America/Chicago:20240213T183000
DTEND;TZID=America/Chicago:20240213T200000
DTSTAMP:20260423T053239
CREATED:20240122T013413Z
LAST-MODIFIED:20240124T150531Z
UID:30124-1707849000-1707854400@8157.mytreatmentmanager.com
SUMMARY:Degree Ceremony
DESCRIPTION:Charily\, Unity\, and Fraternity exemplification.  Candidates arrive at 6:30pm – ceremony starts at 7pm
URL:https://8157.mytreatmentmanager.com/event/degree-events/
LOCATION:Holy Spirit Catholic Church\, 1111 W Danieldale Rd\, Duncanville\, TX\, 75137\, United States
CATEGORIES:Degree events
ORGANIZER;CN="Tom Greco":MAILTO:cmry@sbcglobal.net
END:VEVENT
BEGIN:VEVENT
DTSTART;TZID=America/Chicago:20240212T000000
DTEND;TZID=America/Chicago:20240212T235959
DTSTAMP:20260423T053239
CREATED:20240121T001059Z
LAST-MODIFIED:20240123T195944Z
UID:29963-1707696000-1707782399@8157.mytreatmentmanager.com
SUMMARY:Lincoln's Birthday
DESCRIPTION:The birthday of the 16th President of the United States
URL:https://8157.mytreatmentmanager.com/event/lincolns-birthday/
LOCATION:TX
CATEGORIES:US Holidays & Observances
END:VEVENT
BEGIN:VEVENT
DTSTART;TZID=America/Chicago:20240209T180000
DTEND;TZID=America/Chicago:20240209T213000
DTSTAMP:20260423T053239
CREATED:20240123T002243Z
LAST-MODIFIED:20240123T195416Z
UID:30232-1707501600-1707514200@8157.mytreatmentmanager.com
SUMMARY:Dallas Diocese Clergy Appreciation Banquet – Friday\, February 9th\, 2024
DESCRIPTION:The net proceeds of the 2024 Clergy Appreciation Banquet will be used to fund the Dallas Diocese Seminarian Emergency Fund and other charitable causes intended to benefit our Dallas Diocese Clergy. \n\n\n\nGuests of Honor\n\n\n\nMost Reverend Edward J. Burns\,     Bishop of Dallas. \n\n\n\nMost Reverend Greg Kelly\,     Auxiliary Bishop of Dallas. \n\n\n\nDallas Diocese Clergy \n\n\n\nTexas State Deputy Terry Fruge \n\n\n\nGuest Speaker\n\n\n\nDave Palmer \n\n\n\nNorth Texas Executive DirectorGuadalupe Radio Network Dallas \n\n\n\nVenue\n\n\n\nKayCee Club – Council 79910110 Shoreview RdDallas\, TX 75238 \n\n\n\n\n6:00 PM Social Hour\n\n\n\n7:00 PM Seated Dinner\n\n\n\n7:45 PM Program starts\n\n\n\n\nMusical Performance by\n\n\n\nThe Chris McGuire Quartet
URL:https://8157.mytreatmentmanager.com/event/dallas-diocese-clergy-appreciation-banquet-friday-february-9th-2024/
LOCATION:he net proceeds of the 2024 Clergy Appreciation Banquet will be used to fund the Dallas Diocese Seminarian Emergency Fund and other charitable causes intended to benefit our Dallas Diocese Clergy.  Guests of Honor Most Reverend Edward J. Burns\,      Bishop of Dallas.  Most Reverend Greg Kelly\,      Auxiliary Bishop of Dallas.  Dallas Diocese Clergy  Texas State Deputy Terry Fruge  Guest Speaker Dave Palmer  North Texas Executive Director Guadalupe Radio Network Dallas  Venue KayCee Club – Council 799 10110 Shoreview Rd Dallas\, TX 75238  6:00 PM Social Hour 7:00 PM Seated Dinner 7:45 PM Program starts Musical Performance by The Chris McGuire Quartet
CATEGORIES:Council Activities
ORGANIZER;CN="SK Jorge Ruiz%2C PGK":MAILTO:admin@kofc8157.org
END:VEVENT
BEGIN:VEVENT
DTSTART;TZID=America/Chicago:20240208T193000
DTEND;TZID=America/Chicago:20240208T203000
DTSTAMP:20260423T053239
CREATED:20240120T200614Z
LAST-MODIFIED:20240123T194055Z
UID:29870-1707420600-1707424200@8157.mytreatmentmanager.com
SUMMARY:4th Degree meeting
DESCRIPTION:The fourth degree of the Mgr. James F Burnes Assembly 2799 meet at Holy Spirit Catholic Church Community Center in Room 221 to discuss and plan events.
URL:https://8157.mytreatmentmanager.com/event/4th-degree-meeting/
LOCATION:TX
CATEGORIES:4th Degree,Meetings
END:VEVENT
BEGIN:VEVENT
DTSTART;TZID=America/Chicago:20240206T190000
DTEND;TZID=America/Chicago:20240206T203000
DTSTAMP:20260423T053239
CREATED:20240120T192313Z
LAST-MODIFIED:20240121T174456Z
UID:29862-1707246000-1707251400@8157.mytreatmentmanager.com
SUMMARY:Business Meeting
DESCRIPTION:Find out’s happened and what’s gonna happen at the regular business meeting.  A light meal is served at 7pm with the meeting starting at 7:30pm.  All current paid up Knights are asked to attend
URL:https://8157.mytreatmentmanager.com/event/business-meeting/
LOCATION:TX
CATEGORIES:Meetings
END:VEVENT
BEGIN:VEVENT
DTSTART;TZID=America/Chicago:20240204T060000
DTEND;TZID=America/Chicago:20240204T120000
DTSTAMP:20260423T053239
CREATED:20240131T203524Z
LAST-MODIFIED:20240131T204009Z
UID:30432-1707026400-1707048000@8157.mytreatmentmanager.com
SUMMARY:Parish Breakfast
DESCRIPTION:Sunday\, Feb. 4 the Knights of Columbus Council 8167 is providing breakfast in the “Upper Room” dining hall for the parish from 6am (cooking and set up); 8am until 11am serving and then clean up.
URL:https://8157.mytreatmentmanager.com/event/church-activities-2/
LOCATION:Holy Spirit Catholic Church\, 1111 W Danieldale Rd\, Duncanville\, TX\, 75137\, United States
CATEGORIES:Church Activities,Council Activities
ATTACH;FMTTYPE=image/jpeg:https://8157.mytreatmentmanager.com/wp-content/uploads/2020/02/IMG_3511.jpg
ORGANIZER;CN="David Ybarra":MAILTO:dvralphy@att.net
END:VEVENT
BEGIN:VEVENT
DTSTART;TZID=America/Chicago:20240127T140000
DTEND;TZID=America/Chicago:20240127T150000
DTSTAMP:20260423T053239
CREATED:20240120T183310Z
LAST-MODIFIED:20240127T171442Z
UID:29846-1706364000-1706367600@8157.mytreatmentmanager.com
SUMMARY:Setting up Chairs
DESCRIPTION:Join your Brother Knights at the Community Center and join in helping set up chairs for Casino night.  Call Dan Murphy at 972822-05+61
URL:https://8157.mytreatmentmanager.com/event/setting-up-chairs-2/
LOCATION:TX
CATEGORIES:Church Activities
END:VEVENT
END:VCALENDAR